BEGIN:VCALENDAR
VERSION:2.0
PRODID:-//Interdisciplinary Humanities Center UCSB - ECPv6.15.1.1//NONSGML v1.0//EN
CALSCALE:GREGORIAN
METHOD:PUBLISH
X-WR-CALNAME:Interdisciplinary Humanities Center UCSB
X-ORIGINAL-URL:https://ihc.ucsb.edu
X-WR-CALDESC:Events for Interdisciplinary Humanities Center UCSB
REFRESH-INTERVAL;VALUE=DURATION:PT1H
X-Robots-Tag:noindex
X-PUBLISHED-TTL:PT1H
BEGIN:VTIMEZONE
TZID:America/Los_Angeles
BEGIN:DAYLIGHT
TZOFFSETFROM:-0800
TZOFFSETTO:-0700
TZNAME:PDT
DTSTART:20180311T100000
END:DAYLIGHT
BEGIN:STANDARD
TZOFFSETFROM:-0700
TZOFFSETTO:-0800
TZNAME:PST
DTSTART:20181104T090000
END:STANDARD
BEGIN:DAYLIGHT
TZOFFSETFROM:-0800
TZOFFSETTO:-0700
TZNAME:PDT
DTSTART:20190310T100000
END:DAYLIGHT
BEGIN:STANDARD
TZOFFSETFROM:-0700
TZOFFSETTO:-0800
TZNAME:PST
DTSTART:20191103T090000
END:STANDARD
BEGIN:DAYLIGHT
TZOFFSETFROM:-0800
TZOFFSETTO:-0700
TZNAME:PDT
DTSTART:20200308T100000
END:DAYLIGHT
BEGIN:STANDARD
TZOFFSETFROM:-0700
TZOFFSETTO:-0800
TZNAME:PST
DTSTART:20201101T090000
END:STANDARD
BEGIN:DAYLIGHT
TZOFFSETFROM:-0800
TZOFFSETTO:-0700
TZNAME:PDT
DTSTART:20210314T100000
END:DAYLIGHT
BEGIN:STANDARD
TZOFFSETFROM:-0700
TZOFFSETTO:-0800
TZNAME:PST
DTSTART:20211107T090000
END:STANDARD
BEGIN:DAYLIGHT
TZOFFSETFROM:-0800
TZOFFSETTO:-0700
TZNAME:PDT
DTSTART:20220313T100000
END:DAYLIGHT
BEGIN:STANDARD
TZOFFSETFROM:-0700
TZOFFSETTO:-0800
TZNAME:PST
DTSTART:20221106T090000
END:STANDARD
END:VTIMEZONE
BEGIN:VEVENT
DTSTART;TZID=America/Los_Angeles:20221017T130000
DTEND;TZID=America/Los_Angeles:20221017T140000
DTSTAMP:20260423T202208
CREATED:20220919T160612Z
LAST-MODIFIED:20220926T214953Z
UID:10000606-1666011600-1666015200@ihc.ucsb.edu
SUMMARY:Research Focus Group Discussion: Reading David Sterling Brown's "'Hood feminism': Whiteness and segregated (premodern) scholarly discourse in the post-postracial era"
DESCRIPTION:Download FlyerPlease join us on Monday\, October 17th\, at 1 PM for a reading group discussion of David Sterling Brown’s recent article\, “‘Hood feminism’: Whiteness and segregated (premodern) scholarly discourse in the post-postracial era\,” and “Teaching guide for: ‘Hood feminism’: Whiteness and segregated (premodern) scholarly discourse in the post-postracial era.” Both works appeared in the 2021 special issue of Literature Compass\, “Race Before Race: Premodern Critical Race Studies\,” edited by Dorothy Kim. As the first Un-disciplining Premodern Histories of Race and Gender RFG event of the new academic year\, we will begin by continuing last year’s conversations on un-disciplining and re-disciplining premodern studies with with Brown’s phenomenal work. Please email jessicazisa@ucsb.edu or reemtaha@ucsb.edu for access to the reading or to be added to the Un-disciplining Premodern Histories of Race and Gender Research Focus Group email list for future event information. \nSponsored by the IHC’s Un-disciplining Premodern Histories of Race and Gender Research Focus Group
URL:https://ihc.ucsb.edu/event/research-focus-group-discussion-reading-david-sterling-browns-hood-feminism-whiteness-and-segregated-premodern-scholarly-discourse-in-the-post-postracial-era/
LOCATION:2635 South Hall\, South Hall\, UCSB\, Santa Barbara\, CA\, 93106\, United States
CATEGORIES:Un-disciplining Premodern Histories of Race and Gender,All Events,IHC Research Focus Groups
ATTACH;FMTTYPE=image/jpeg:https://ihc.ucsb.edu/wp-content/uploads/2021/06/RFG-Un-disciplining-Event.jpg
ORGANIZER;CN="Un-disciplining Premodern Histories of Race and Gender RFG":MAILTO:jessicazisa@ucsb.edu
GEO:34.4138492;-119.8475924
X-APPLE-STRUCTURED-LOCATION;VALUE=URI;X-ADDRESS=2635 South Hall South Hall UCSB Santa Barbara CA 93106 United States;X-APPLE-RADIUS=500;X-TITLE=South Hall\, UCSB:geo:-119.8475924,34.4138492
END:VEVENT
BEGIN:VEVENT
DTSTART;TZID=America/Los_Angeles:20180521T170000
DTEND;TZID=America/Los_Angeles:20180521T190000
DTSTAMP:20260423T202208
CREATED:20180509T235947Z
LAST-MODIFIED:20180510T000134Z
UID:10000233-1526922000-1526929200@ihc.ucsb.edu
SUMMARY:RFG Talk: The Double Consciousness of Henry Box Brown in Four Acts
DESCRIPTION:Download FlyerIf Henry Box Brown is known to contemporary audiences\, then it is as the slave who achieved freedom by mailing himself in a box from Virginia to Philadelphia in 1849. While critics have explored this incredible event\, less attention has been focused on Brown’s subsequent life as the performer of a moving diorama in England\, a mesmerist\, and a prestidigitator. Taking up his fascinating boxing experience\, but also shedding more light on his later “acts\,” as I call them\, I argue that Brown used his performances of the black body to construct a new idea of “double consciousness\,” Du Bois’s classic term for the psychological splitting of African-American subjectivity. By exploring the way that Brown used his performative acts to construct a conscious body—minding the body\, as it were—I argue that he offered a new “onto-possibility\,” as Jane Bennett calls it\, one that traded the ontological clarity of mind-over-body for the more capacious\, if murkier\, understanding of a mind-in-body ontology. Double consciousness thus becomes not a matter of psychological splitting\, I argue\, but rather the discovery of consciousness not in the mind alone\, but also in the often-objectified body of the chattel slave. In this way\, Brown’s performative ventures—as someone emerging theatrically from a box\, as a curator of his panorama\, as a black magician—makes double consciousness a wedge for telling an alternative history of black identity formation in the nineteenth century. \nMatthew Rebhorn is Roop Distinguished Professor of English at James Madison University. He is the author of Pioneer Performances: Staging the Frontier (Oxford University Press\, 2012) and has recently completed Minding the Body: The Animate Body in Antebellum American Literature (Oxford University Press\, under contract). \nSponsored by Literature and the Mind (UCSB\, English); American Cultures and Global Contexts Center (UCSB\, English); the Interdisciplinary Humanities Center’s Slavery\, Captivity\, and the Meaning of Freedom Research Focus Group
URL:https://ihc.ucsb.edu/event/rfg-talk-the-double-consciousness-of-henry-box-brown-in-four-acts/
LOCATION:2635 South Hall\, South Hall\, UCSB\, Santa Barbara\, CA\, 93106\, United States
CATEGORIES:All Events,IHC Research Focus Groups,Slavery, Captivity, and the Meaning of Freedom
ATTACH;FMTTYPE=image/jpeg:https://ihc.ucsb.edu/wp-content/uploads/2018/05/HenryBoxBrown.jpg
ORGANIZER;CN="Slavery%2C Captivity%2C and the Meaning of Freedom RFG":MAILTO:jdelombard@ucsb.edu
GEO:34.4138492;-119.8475924
X-APPLE-STRUCTURED-LOCATION;VALUE=URI;X-ADDRESS=2635 South Hall South Hall UCSB Santa Barbara CA 93106 United States;X-APPLE-RADIUS=500;X-TITLE=South Hall\, UCSB:geo:-119.8475924,34.4138492
END:VEVENT
END:VCALENDAR