BEGIN:VCALENDAR
VERSION:2.0
PRODID:-//Interdisciplinary Humanities Center UCSB - ECPv6.15.1.1//NONSGML v1.0//EN
CALSCALE:GREGORIAN
METHOD:PUBLISH
X-WR-CALNAME:Interdisciplinary Humanities Center UCSB
X-ORIGINAL-URL:https://ihc.ucsb.edu
X-WR-CALDESC:Events for Interdisciplinary Humanities Center UCSB
REFRESH-INTERVAL;VALUE=DURATION:PT1H
X-Robots-Tag:noindex
X-PUBLISHED-TTL:PT1H
BEGIN:VTIMEZONE
TZID:America/Los_Angeles
BEGIN:DAYLIGHT
TZOFFSETFROM:-0800
TZOFFSETTO:-0700
TZNAME:PDT
DTSTART:20180311T100000
END:DAYLIGHT
BEGIN:STANDARD
TZOFFSETFROM:-0700
TZOFFSETTO:-0800
TZNAME:PST
DTSTART:20181104T090000
END:STANDARD
END:VTIMEZONE
BEGIN:VEVENT
DTSTART;TZID=America/Los_Angeles:20180221T190000
DTEND;TZID=America/Los_Angeles:20180221T220000
DTSTAMP:20260423T071430
CREATED:20180216T220141Z
LAST-MODIFIED:20180216T220141Z
UID:10000039-1519239600-1519250400@ihc.ucsb.edu
SUMMARY:Film Screening: Beyond Fordlandia
DESCRIPTION:Download FlyerWritten and directed by Marcos Colón\, Beyond Fordlândia (2017\, 75 min) presents an environmental account of Henry Ford’s Amazon experience decades after its failure. The story addressed by the film begins in 1927\, when the Ford Motor Company attempted to establish rubber plantations on the Tapajós River\, a primary tributary of the Amazon. This film addresses the recent transition from failed rubber to successful soybean cultivation for export\, and its implication for land usage. \nThere will be a Q&A with director Marcos Colón after the film. \nSponsored by the Department of Spanish & Portuguese; Latin American and Iberian Studies; the Department of Anthropology; and the Interdisciplinary Humanities Center.
URL:https://ihc.ucsb.edu/event/film-screening-beyond-fordlandia/
LOCATION:McCune Conference Room\, 6020 HSSB\, Santa Barbara\, CA\, 93106\, United States
CATEGORIES:All Events,Other Events
ORGANIZER;CN="Prof. Jeffrey Hoelle":MAILTO:hoelle@anth.ucsb.edu
END:VEVENT
END:VCALENDAR