BEGIN:VCALENDAR
VERSION:2.0
PRODID:-//Interdisciplinary Humanities Center UCSB - ECPv6.15.1.1//NONSGML v1.0//EN
CALSCALE:GREGORIAN
METHOD:PUBLISH
X-WR-CALNAME:Interdisciplinary Humanities Center UCSB
X-ORIGINAL-URL:https://ihc.ucsb.edu
X-WR-CALDESC:Events for Interdisciplinary Humanities Center UCSB
REFRESH-INTERVAL;VALUE=DURATION:PT1H
X-Robots-Tag:noindex
X-PUBLISHED-TTL:PT1H
BEGIN:VTIMEZONE
TZID:America/Los_Angeles
BEGIN:DAYLIGHT
TZOFFSETFROM:-0800
TZOFFSETTO:-0700
TZNAME:PDT
DTSTART:20240310T100000
END:DAYLIGHT
BEGIN:STANDARD
TZOFFSETFROM:-0700
TZOFFSETTO:-0800
TZNAME:PST
DTSTART:20241103T090000
END:STANDARD
END:VTIMEZONE
BEGIN:VEVENT
DTSTART;TZID=America/Los_Angeles:20241112T130000
DTEND;TZID=America/Los_Angeles:20241112T143000
DTSTAMP:20260419T140600
CREATED:20241022T170956Z
LAST-MODIFIED:20241106T173750Z
UID:10000735-1731416400-1731421800@ihc.ucsb.edu
SUMMARY:Research Focus Group Talk: Key Readings on Adaptation for Children
DESCRIPTION:This talk by Martina Mattei will explore key concepts from The Routledge Companion to Children’s Literature and Culture\, focusing on Chapter 27 (“Translation”) and Chapter 29 (“Adaptation”). It will address how children’s literature is translated and adapted across different cultures and media\, examining the balance between staying true to original texts and making them accessible for young readers. The chapter on translation covers the complexities of translating children’s literature\, emphasizing the need to preserve cultural and linguistic integrity while ensuring that young audiences can understand and relate to the material. It highlights the role of translation in shaping children’s understanding of different cultures and ideas. The adaptation chapter examines how children’s stories are reshaped across various media\, such as film and television. It discusses how these adaptations make stories accessible to different age groups while considering cultural and generational influences. The process of adaptation is viewed as a critical way to introduce children to stories in engaging and relevant forms. The talk will emphasize how both translation and adaptation play crucial roles in broadening children’s literary and cultural horizons. \nZoom attendance link here \nSponsored by the IHC’s Global Childhood Media Research Focus Group
URL:https://ihc.ucsb.edu/event/research-focus-group-talk-key-readings-on-adaptation-for-children/
LOCATION:6206C Phelps and Zoom\, UC Santa Barbara\, Santa Barbara\, CA\, 93106\, United States
CATEGORIES:Global Childhood Media,All Events,IHC Research Focus Groups
ATTACH;FMTTYPE=image/jpeg:https://ihc.ucsb.edu/wp-content/uploads/2024/10/what-happens-original-little-mermaid-story-hans-christian-andersen.jpg
ORGANIZER;CN="Martina Mattei":MAILTO:martinamattei@ucsb.edu
END:VEVENT
END:VCALENDAR