BEGIN:VCALENDAR
VERSION:2.0
PRODID:-//Interdisciplinary Humanities Center UCSB - ECPv6.15.1.1//NONSGML v1.0//EN
CALSCALE:GREGORIAN
METHOD:PUBLISH
X-WR-CALNAME:Interdisciplinary Humanities Center UCSB
X-ORIGINAL-URL:https://ihc.ucsb.edu
X-WR-CALDESC:Events for Interdisciplinary Humanities Center UCSB
REFRESH-INTERVAL;VALUE=DURATION:PT1H
X-Robots-Tag:noindex
X-PUBLISHED-TTL:PT1H
BEGIN:VTIMEZONE
TZID:America/Los_Angeles
BEGIN:DAYLIGHT
TZOFFSETFROM:-0800
TZOFFSETTO:-0700
TZNAME:PDT
DTSTART:20190310T100000
END:DAYLIGHT
BEGIN:STANDARD
TZOFFSETFROM:-0700
TZOFFSETTO:-0800
TZNAME:PST
DTSTART:20191103T090000
END:STANDARD
END:VTIMEZONE
BEGIN:VEVENT
DTSTART;TZID=America/Los_Angeles:20190515T153000
DTEND;TZID=America/Los_Angeles:20190515T163000
DTSTAMP:20260420T182056
CREATED:20190508T204149Z
LAST-MODIFIED:20190508T204149Z
UID:10000421-1557934200-1557937800@ihc.ucsb.edu
SUMMARY:CHIMERA: A Public Reading
DESCRIPTION:CHIMERA is a science fiction play set in 2050 that centers around a love triangle and an artificially intelligent firefighting cyborg named AICH#805. Entertaining the fate of human existence in an era of climate change\, the play discusses technological innovations that move us closer to “the singularity”—the moment when super-intelligent machines evolve without human assistance—as we simultaneously grapple with the more immediate threat of environmental collapse. Our main characters must reconcile the past and save humanity before being expelled from planet Earth. \nArtist Maiza Hixson studied at the School of the Art Institute of Chicago and has exhibited and performed widely at such venues as: the Brooklyn Museum of Art; Baltimore Contemporary (Koban); Soap Factory\, Minneapolis; Portland Institute for Contemporary Art; Southeastern Center for Contemporary Art; Cantor Fitzgerald Gallery\, Haverford; University of the Arts\, Philadelphia\, and beyond. \nSponsored by the Interdisciplinary Humanities Center and UCSB’s Art Department
URL:https://ihc.ucsb.edu/event/chimera-a-public-reading/
LOCATION:Art Design & Architecture Museum\, 552 University Rd.\, Santa Barbara\, CA\, 93106\, United States
CATEGORIES:All Events,IHC Research Support
ATTACH;FMTTYPE=image/jpeg:https://ihc.ucsb.edu/wp-content/uploads/2019/05/chimera_event_1200x450.jpg
ORGANIZER;CN="Maiza Hixson":MAILTO:maizahixson@gmail.com
GEO:34.4149054;-119.8465082
X-APPLE-STRUCTURED-LOCATION;VALUE=URI;X-ADDRESS=Art Design & Architecture Museum 552 University Rd. Santa Barbara CA 93106 United States;X-APPLE-RADIUS=500;X-TITLE=552 University Rd.:geo:-119.8465082,34.4149054
END:VEVENT
END:VCALENDAR