BEGIN:VCALENDAR
VERSION:2.0
PRODID:-//Interdisciplinary Humanities Center UCSB - ECPv6.15.1.1//NONSGML v1.0//EN
CALSCALE:GREGORIAN
METHOD:PUBLISH
X-WR-CALNAME:Interdisciplinary Humanities Center UCSB
X-ORIGINAL-URL:https://ihc.ucsb.edu
X-WR-CALDESC:Events for Interdisciplinary Humanities Center UCSB
REFRESH-INTERVAL;VALUE=DURATION:PT1H
X-Robots-Tag:noindex
X-PUBLISHED-TTL:PT1H
BEGIN:VTIMEZONE
TZID:America/Los_Angeles
BEGIN:DAYLIGHT
TZOFFSETFROM:-0800
TZOFFSETTO:-0700
TZNAME:PDT
DTSTART:20180311T100000
END:DAYLIGHT
BEGIN:STANDARD
TZOFFSETFROM:-0700
TZOFFSETTO:-0800
TZNAME:PST
DTSTART:20181104T090000
END:STANDARD
END:VTIMEZONE
BEGIN:VEVENT
DTSTART;TZID=America/Los_Angeles:20180504T150000
DTEND;TZID=America/Los_Angeles:20180504T170000
DTSTAMP:20260422T002357
CREATED:20180425T235219Z
LAST-MODIFIED:20180425T235328Z
UID:10000228-1525446000-1525453200@ihc.ucsb.edu
SUMMARY:Talk: Keeping it Real? Vinyl Records\, Digital Media\, and the Future of Independent Culture
DESCRIPTION:Download FlyerFeedback loops abound between digital media and contemporary vinyl culture. The majority of record sales occur online\, the download code is a familiar feature of new vinyl releases\, and turntables outfitted with USB ports and Bluetooth are outselling traditional models. The manufacture of records cannot be digitized; however\, as with most commercial culture today\, vinyl traffic is driven by algorithms and thrives on social media. Furthermore\, the ascent of streaming over the past five years has boosted record sales\, creating both-and markets for “flow” and “publication” media\, distinguished by Raymond Williams as being accessed or acquired by consumers. Contemporary vinyl culture demonstrates how digital media can play a vital role in any community organized around a shared appreciation for cultural forms and formats\, analog or otherwise. Eschewing nostalgia for records as (merely) a reprieve from digital saturation\, in this talk Palm argues that scholars and supporters of independent culture should decouple the digital from the corporate. \nMichael Palm is Associate Professor of Media and Technology Studies in the Department of Communication at UNC-Chapel Hill and Affiliated Faculty in the Department of American Studies. His book Technologies of Consumer Labor: A History of Self-Service was published by Routledge in 2017. His current book project is a cultural studies account of vinyl records’ revived popularity\, informed by labor ethnography along records’ contemporary supply chain. \nSponsored by the Interdisciplinary Humanities Center; the Carsey-Wolf Center; the Center for Information Technology and Society; the Film and Media Studies Dept.; the Center for the Interdisciplinary Study of Music
URL:https://ihc.ucsb.edu/event/talk-keeping-it-real-vinyl-records-digital-media-and-the-future-of-independent-culture/
LOCATION:2135 Social Sciences and Media Studies\, SSMS UCSB\, Santa Barbara\, CA\, 93106\, United States
CATEGORIES:All Events,Other Events
ORGANIZER;CN="Jennifer Holt":MAILTO:jholt@filmandmedia.ucsb.edu
GEO:34.4139629;-119.848947
X-APPLE-STRUCTURED-LOCATION;VALUE=URI;X-ADDRESS=2135 Social Sciences and Media Studies SSMS UCSB Santa Barbara CA 93106 United States;X-APPLE-RADIUS=500;X-TITLE=SSMS UCSB:geo:-119.848947,34.4139629
END:VEVENT
END:VCALENDAR