BEGIN:VCALENDAR
VERSION:2.0
PRODID:-//Interdisciplinary Humanities Center UCSB - ECPv6.15.1.1//NONSGML v1.0//EN
CALSCALE:GREGORIAN
METHOD:PUBLISH
X-WR-CALNAME:Interdisciplinary Humanities Center UCSB
X-ORIGINAL-URL:https://ihc.ucsb.edu
X-WR-CALDESC:Events for Interdisciplinary Humanities Center UCSB
REFRESH-INTERVAL;VALUE=DURATION:PT1H
X-Robots-Tag:noindex
X-PUBLISHED-TTL:PT1H
BEGIN:VTIMEZONE
TZID:America/Los_Angeles
BEGIN:DAYLIGHT
TZOFFSETFROM:-0800
TZOFFSETTO:-0700
TZNAME:PDT
DTSTART:20230312T100000
END:DAYLIGHT
BEGIN:STANDARD
TZOFFSETFROM:-0700
TZOFFSETTO:-0800
TZNAME:PST
DTSTART:20231105T090000
END:STANDARD
BEGIN:DAYLIGHT
TZOFFSETFROM:-0800
TZOFFSETTO:-0700
TZNAME:PDT
DTSTART:20240310T100000
END:DAYLIGHT
BEGIN:STANDARD
TZOFFSETFROM:-0700
TZOFFSETTO:-0800
TZNAME:PST
DTSTART:20241103T090000
END:STANDARD
BEGIN:DAYLIGHT
TZOFFSETFROM:-0800
TZOFFSETTO:-0700
TZNAME:PDT
DTSTART:20250309T100000
END:DAYLIGHT
BEGIN:STANDARD
TZOFFSETFROM:-0700
TZOFFSETTO:-0800
TZNAME:PST
DTSTART:20251102T090000
END:STANDARD
END:VTIMEZONE
BEGIN:VEVENT
DTSTART;TZID=America/Los_Angeles:20250221T180000
DTEND;TZID=America/Los_Angeles:20250221T200000
DTSTAMP:20260420T185726
CREATED:20250127T232122Z
LAST-MODIFIED:20250130T215950Z
UID:10000753-1740160800-1740168000@ihc.ucsb.edu
SUMMARY:Research Focus Group Talk: Conversing with the Afrofuture: An Evening with Nalo Hopkinson
DESCRIPTION:The Creative Critical Writing Initiative (housed in the English Department) welcomes Dr. Nalo Hopkinson for an upcoming talk\, “Conversing with the Afrofuture: An Evening with Nalo Hopkinson.” Nalo Hopkinson is an author\, Professor of Creative Writing at The University of British Columbia\, and the 2021 Damon Knight Memorial Grand Master for lifetime achievement in science fiction and fantasy. Born in Jamaica\, Dr. Hopkinson has taught\, lived\, and created across the Caribbean\, the United States\, and Canada\, producing works that engage with disability\, neurodiversity\, queer Black feminist and womanist thought\, Caribbean literature\, folklore\, & ecology\, Afrofuturism\, textile and doll-making praxis\, and teaching. Dr. Hopkinson is known best for her works in speculative fiction—novels such as Brown Girl in the Ring\, Midnight Robber\, and Sister Mine represent only a fraction of Dr. Hopkinson’s contributions to Afrofuturist thought and art practice. \nJoin us this Winter quarter to welcome Dr. Hopkinson to UCSB. The event will include a moderated conversation\, an audience Q&A\, followed by a book-signing. Select titles will be available for purchase. We hope to see you there! \nCosponsored by the Hemispheric South/s Research Initiative\, Las Maestras Center for Xican[x] Indigenous Thought\, Art and Social Practice\, Center for Feminist Futures\, the American Cultures and Global Contexts Center\, English\, Film and Media Studies\, Comparative Literature\, Black Studies\, Feminist Studies\, the Transcriptions Center\, the Writing Program\, and the IHC’s Caribbean Studies Research Focus Group \n 
URL:https://ihc.ucsb.edu/event/research-focus-group-talk-conversing-with-the-afrofuture-an-evening-with-nalo-hopkinson/
LOCATION:Mosher Alumni Hall\, Mosher Alumni House\, UC Santa Barbara\, Santa Barbara\, CA\, 93106\, United States
CATEGORIES:Caribbean Studies,All Events,IHC Research Focus Groups
ATTACH;FMTTYPE=image/jpeg:https://ihc.ucsb.edu/wp-content/uploads/2025/01/Hopkinson_Event.jpg
ORGANIZER;CN="Caribbean Studies RFG":MAILTO:cathythomas@ucsb.edu
GEO:34.4174006;-119.8454735
X-APPLE-STRUCTURED-LOCATION;VALUE=URI;X-ADDRESS=Mosher Alumni Hall Mosher Alumni House UC Santa Barbara Santa Barbara CA 93106 United States;X-APPLE-RADIUS=500;X-TITLE=Mosher Alumni House\, UC Santa Barbara:geo:-119.8454735,34.4174006
END:VEVENT
BEGIN:VEVENT
DTSTART;TZID=America/Los_Angeles:20230425T190000
DTEND;TZID=America/Los_Angeles:20230425T210000
DTSTAMP:20260420T185726
CREATED:20230316T175852Z
LAST-MODIFIED:20230404T161159Z
UID:10000637-1682449200-1682456400@ihc.ucsb.edu
SUMMARY:Research Focus Group Film Screening: Does Your House Have Lions
DESCRIPTION:“An archive of friendship – near\, far and displaced.” Filmed over six years\, following Delhi-based poet\, teacher and activist vqueeram and a group of friends living together in New Delhi\, Does Your House Have Lions (48 min.\, 2021) invites us into a world of queer kinship\, love and joy\, experienced amidst—and in resistance to—the inequalities of caste\, patriarchy\, religion and fascism. \nVishal Jugdeo is an interdisciplinary artist who works with video\, installation\, performance\, and sculpture to construct experimental approaches to narrative. He has exhibited widely including solo exhibitions at the ICA Philadelphia\, LAXART\, Los Angeles\, Western Front\, Vancouver\, and 18th Street Arts Center\, Santa Monica. Commissioned works have been featured in Performa\, New York\, and Made in LA at the Hammer Museum. Jugdeo is a 2015 Guggenheim Foundation Fellow and has received major project funding from the Canada Council for the Arts. Jugdeo is Assistant Professor in New Genres in the UCLA Department of Art. \nvqueeram is a writer\, researcher\, and teacher. They are interested in sex\, feeling\, and living/dying in their relations with forms of sociality\, law\, and politics. At the Center for Law and Policy Research\, Bengaluru\, vqueeram teaches a course on intersectionality for various law schools in the country\, and participates in research and policy work on the rights and concerns of the trans community in India. In their writing\, vqueeram pays attention to the practices of imagination and freedom of queer/trans persons; whether building a life in a cemetary in Delhi\, or in life writing—cinematic\, authorial\, and political. vqueeram’s writing has been featured in The Shortline Review\, The White Review\, Frieze\, Huffington Post India\, Akademi Magazine\, and The Wire among other publications and contexts. \nThere will be a post-screening discussion on Zoom with filmmakers Vishal Jugdeo and vqueeram moderated by Cathy Thomas\, Asst. Professor in English & Creative Writing at UCSB. \nAdmission is free. To register to attend the in-person screening or the virtual post-screening discussion\, please visit the Carsey-Wolf Center event page. \nSponsored by the IHC’s Caribbean Studies Research Focus Group and the Carsey-Wolf Center
URL:https://ihc.ucsb.edu/event/does-your-house-have-lions/
LOCATION:Pollock Theater\, University of California\, Santa Barbara\, Santa Barbara\, CA\, 93106\, United States
CATEGORIES:Caribbean Studies,All Events,IHC Research Focus Groups
ORGANIZER;CN="Caribbean Studies RFG":MAILTO:cathythomas@ucsb.edu
END:VEVENT
END:VCALENDAR