BEGIN:VCALENDAR
VERSION:2.0
PRODID:-//Interdisciplinary Humanities Center UCSB - ECPv6.15.1.1//NONSGML v1.0//EN
CALSCALE:GREGORIAN
METHOD:PUBLISH
X-WR-CALNAME:Interdisciplinary Humanities Center UCSB
X-ORIGINAL-URL:https://ihc.ucsb.edu
X-WR-CALDESC:Events for Interdisciplinary Humanities Center UCSB
REFRESH-INTERVAL;VALUE=DURATION:PT1H
X-Robots-Tag:noindex
X-PUBLISHED-TTL:PT1H
BEGIN:VTIMEZONE
TZID:America/Los_Angeles
BEGIN:DAYLIGHT
TZOFFSETFROM:-0800
TZOFFSETTO:-0700
TZNAME:PDT
DTSTART:20240310T100000
END:DAYLIGHT
BEGIN:STANDARD
TZOFFSETFROM:-0700
TZOFFSETTO:-0800
TZNAME:PST
DTSTART:20241103T090000
END:STANDARD
END:VTIMEZONE
BEGIN:VEVENT
DTSTART;TZID=America/Los_Angeles:20240123T120000
DTEND;TZID=America/Los_Angeles:20240123T130000
DTSTAMP:20260422T164352
CREATED:20240109T180005Z
LAST-MODIFIED:20240110T170116Z
UID:10000684-1706011200-1706014800@ihc.ucsb.edu
SUMMARY:Information Sessions: Public Humanities Graduate Fellows Program
DESCRIPTION:Tuesday\, January 23 | 12:00 PM | McCune Conference Room\, HSSB 6020 | RSVP\nLunch will be provided.\nAND\nWednesday\, January 24 | 4:00 PM | McCune Conference Room\, HSSB 6020 | RSVP\nRefreshments will be provided. \nJoin the IHC on 1/23 or 1/24 to learn more about the Public Humanities Graduate Fellows Program. Explore the course requirements\, hear about paid internship opportunities\, and find out more about the capstone presentation. \nIf you would like to learn more about the program but cannot attend an info session\, please email IHC Assistant Director Christoffer Bovbjerg.
URL:https://ihc.ucsb.edu/event/information-sessions-public-humanities-graduate-fellows-program-january-23-2024/
LOCATION:McCune Conference Room\, 6020 HSSB\, Santa Barbara\, CA\, 93106\, United States
CATEGORIES:All Events,IHC Research Support,Other Events
ATTACH;FMTTYPE=image/jpeg:https://ihc.ucsb.edu/wp-content/uploads/2019/01/IHC_PublicHumanities_slogan.jpg
ORGANIZER;CN="Interdisciplinary Humanities Center":MAILTO:events@ihc.ucsb.edu
END:VEVENT
BEGIN:VEVENT
DTSTART;TZID=America/Los_Angeles:20240124T160000
DTEND;TZID=America/Los_Angeles:20240124T170000
DTSTAMP:20260422T164352
CREATED:20240109T180146Z
LAST-MODIFIED:20240110T170047Z
UID:10000685-1706112000-1706115600@ihc.ucsb.edu
SUMMARY:Information Sessions: Public Humanities Graduate Fellows Program
DESCRIPTION:Tuesday\, January 23 | 12:00 PM | McCune Conference Room\, HSSB 6020 | RSVP\nLunch will be provided.\nAND\nWednesday\, January 24 | 4:00 PM | McCune Conference Room\, HSSB 6020 | RSVP\nRefreshments will be provided. \nJoin the IHC on 1/23 or 1/24 to learn more about the Public Humanities Graduate Fellows Program. Explore the course requirements\, hear about paid internship opportunities\, and find out more about the capstone presentation. \nIf you would like to learn more about the program but cannot attend an info session\, please email IHC Assistant Director Christoffer Bovbjerg.
URL:https://ihc.ucsb.edu/event/information-sessions-public-humanities-graduate-fellows-program-january-24-2024/
LOCATION:McCune Conference Room\, 6020 HSSB\, Santa Barbara\, CA\, 93106\, United States
CATEGORIES:All Events,IHC Research Support,Other Events
ATTACH;FMTTYPE=image/jpeg:https://ihc.ucsb.edu/wp-content/uploads/2019/01/IHC_PublicHumanities_slogan.jpg
ORGANIZER;CN="Interdisciplinary Humanities Center":MAILTO:events@ihc.ucsb.edu
END:VEVENT
END:VCALENDAR