BEGIN:VCALENDAR
VERSION:2.0
PRODID:-//Interdisciplinary Humanities Center UCSB - ECPv6.15.1.1//NONSGML v1.0//EN
CALSCALE:GREGORIAN
METHOD:PUBLISH
X-ORIGINAL-URL:https://ihc.ucsb.edu
X-WR-CALDESC:Events for Interdisciplinary Humanities Center UCSB
REFRESH-INTERVAL;VALUE=DURATION:PT1H
X-Robots-Tag:noindex
X-PUBLISHED-TTL:PT1H
BEGIN:VTIMEZONE
TZID:America/Los_Angeles
BEGIN:DAYLIGHT
TZOFFSETFROM:-0800
TZOFFSETTO:-0700
TZNAME:PDT
DTSTART:20200308T100000
END:DAYLIGHT
BEGIN:STANDARD
TZOFFSETFROM:-0700
TZOFFSETTO:-0800
TZNAME:PST
DTSTART:20201101T090000
END:STANDARD
END:VTIMEZONE
BEGIN:VEVENT
DTSTART;TZID=America/Los_Angeles:20201203T173000
DTEND;TZID=America/Los_Angeles:20201203T183000
DTSTAMP:20260422T045941
CREATED:20201201T232731Z
LAST-MODIFIED:20201203T164703Z
UID:10000301-1607016600-1607020200@ihc.ucsb.edu
SUMMARY:Research Focus Group Discussion with Radhika Govindrajan about Her Book Animal Intimacies
DESCRIPTION:ATTEND DISCUSSION \nThis seminar session will feature a discussion with Radhika Govindrajan about her book Animal Intimacies: Interspecies Relatedness in India’s Central Himalayas (2018)\, which is an ethnographic study of the interspecies relationships between human and nonhuman animals in the mountain villages of the Central Himalayan state of Uttarakhand in India. Following is the University of Chicago Press’s description of the book: \n“What does it mean to live and die in relation to other animals? Animal Intimacies posits this central question alongside the intimate—and intense—moments of care\, kinship\, violence\, politics\, indifference\, and desire that occur between human and non-human animals. Built on extensive ethnographic fieldwork in the mountain villages of India’s Central Himalayas\, Radhika Govindrajan’s book explores the number of ways that humans and animals interact to cultivate relationships as interconnected\, related beings. Whether it is through the study of the affect and ethics of ritual animal sacrifice\, analysis of the right-wing political project of cow-protection\, or examination of villagers’ talk about bears who abduct women and have sex with them\, Govindrajan illustrates that multispecies relatedness relies on both difference and ineffable affinity between animals. Animal Intimacies breaks substantial new ground in animal studies\, and Govindrajan’s detailed portrait of the social\, political\, and religious life of the region will be of interest to cultural anthropologists and scholars of South Asia as well.” \nRadhika Govindrajan is Associate Professor of Anthropology at the University of Washington. Her research as a cultural anthropologist explores the intersections of multispecies ethnography\, environmental anthropology\, the anthropology of religion\, South Asian Studies\, and political anthropology. Her book Animal Intimacies was awarded the 2017 Edward Cameron Dimock\, Jr.\, Prize in the Indian Humanities by the American Institute of Indian Studies and the 2019 Gregory Bateson Prize by the Society for Cultural Anthropology. \nATTEND DISCUSSION \nSponsored by the IHC’s South Asian Religions and Cultures Research Focus Group
URL:https://ihc.ucsb.edu/event/research-focus-group-discussion-with-radhika-govindrajan-about-her-book-animal-intimacies/
LOCATION:Zoom
CATEGORIES:All Events,IHC Research Focus Groups,South Asian Religions and Cultures
ATTACH;FMTTYPE=image/jpeg:https://ihc.ucsb.edu/wp-content/uploads/2020/12/SouthAsian_AnimalIntimacies_Event.jpg
ORGANIZER;CN="South Asian Religions and Cultures RFG":MAILTO:holdrege@religion.ucsb.edu
END:VEVENT
BEGIN:VEVENT
DTSTART;TZID=America/Los_Angeles:20201214T110000
DTEND;TZID=America/Los_Angeles:20201214T130000
DTSTAMP:20260422T045941
CREATED:20201029T180146Z
LAST-MODIFIED:20201104T195812Z
UID:10000293-1607943600-1607950800@ihc.ucsb.edu
SUMMARY:Research Focus Group Workshop: Graduate Student Research
DESCRIPTION:The Asian/American Studies Collective is excited to host two events showcasing graduate student research this quarter. Graduate students will be presenting their research as part of the Collective-sponsored graduate seminar ASAM 200. These workshops will be held on November 9th and December 14th from 11am to 1pm PST. \nSponsored by the IHC’s Asian/American Studies Collective Research Focus Group
URL:https://ihc.ucsb.edu/event/research-focus-group-workshop-graduate-student-research-2/
LOCATION:Zoom
CATEGORIES:The Asian/American Studies Collective,All Events,IHC Research Focus Groups
ATTACH;FMTTYPE=image/jpeg:https://ihc.ucsb.edu/wp-content/uploads/2020/10/AASC_Research-Workshop_Event.jpg
ORGANIZER;CN="Asian/American Studies Collective RFG":MAILTO:aasc.ucsb@gmail.com
END:VEVENT
BEGIN:VEVENT
DTSTART;TZID=America/Los_Angeles:20201215T113000
DTEND;TZID=America/Los_Angeles:20201215T130000
DTSTAMP:20260422T045941
CREATED:20201116T192852Z
LAST-MODIFIED:20201116T192852Z
UID:10000299-1608031800-1608037200@ihc.ucsb.edu
SUMMARY:Workshop: Demystifying the Book Publishing Process & Connecting with UC Colleagues
DESCRIPTION:CLICK HERE TO REGISTER \nUC Press editors will offer insight into the academic book publishing process. The presentation will include: choosing the right publisher; preparing a book proposal; how the peer review and Editorial Committee process works; revising your manuscript; and working with publishers to promote your book. \nThe session is intended to be interactive and questions are welcome. \nFollowing the presentation\, we will host breakout rooms with editors based on field interests. This is also an opportunity to connect with faculty and graduate students who share similar intellectual interests. When you sign up\, please select a breakout room. If your area is not represented in the breakout session\, please let us know your specialization. \nPRESENTERS:\n• Raina Polivka\, Editor\, UC Press\n• Kate Marshall\, Editor\, UC Press\n• Archna Patel\, Associate Editor\, UC Press\n• Beth Digeser\, Professor\, History\, UCSB and Chair\, UC Press Editorial Committee \nBREAKOUT SESSIONS:\n• Raina Polivka\, Editor\, UC Press (Music\, Cinema\, Media Studies)\n• Niels Hooper\, Executive Editor\, UC Press (History\, American Studies\, Middle East Studies)\n• Kate Marshall\, Editor\, UC Press (Anthropology\, Food Studies\, Latin American Studies)\n• Archna Patel\, Associate Editor\, UC Press (Art History)\n• Reed Malcolm\, Executive Editor\, UC Press (Asian Studies\, Open Access) \nCLICK HERE TO REGISTER \nSponsored by University of California Press and the UC Collaborative of Humanities Centers and Institutes
URL:https://ihc.ucsb.edu/event/workshop-demystifying-the-book-publishing-process-connecting-with-uc-colleagues/
LOCATION:Zoom
CATEGORIES:All Events,Other Events
END:VEVENT
END:VCALENDAR