BEGIN:VCALENDAR
VERSION:2.0
PRODID:-//Interdisciplinary Humanities Center UCSB - ECPv6.15.1.1//NONSGML v1.0//EN
CALSCALE:GREGORIAN
METHOD:PUBLISH
X-WR-CALNAME:Interdisciplinary Humanities Center UCSB
X-ORIGINAL-URL:https://ihc.ucsb.edu
X-WR-CALDESC:Events for Interdisciplinary Humanities Center UCSB
REFRESH-INTERVAL;VALUE=DURATION:PT1H
X-Robots-Tag:noindex
X-PUBLISHED-TTL:PT1H
BEGIN:VTIMEZONE
TZID:America/Los_Angeles
BEGIN:DAYLIGHT
TZOFFSETFROM:-0800
TZOFFSETTO:-0700
TZNAME:PDT
DTSTART:20230312T100000
END:DAYLIGHT
BEGIN:STANDARD
TZOFFSETFROM:-0700
TZOFFSETTO:-0800
TZNAME:PST
DTSTART:20231105T090000
END:STANDARD
END:VTIMEZONE
BEGIN:VEVENT
DTSTART;VALUE=DATE:20230812
DTEND;VALUE=DATE:20230818
DTSTAMP:20260423T111119
CREATED:20220228T193007Z
LAST-MODIFIED:20221114T192937Z
UID:10000590-1691798400-1692316799@ihc.ucsb.edu
SUMMARY:2023 IRSCL Congress: Ecologies of Childhood
DESCRIPTION:The 26th biennial Congress of the International Research Society for Children’s Literature (IRSCL) will be hosted at the University of California\, Santa Barbara on August 12-17\, 2023 and will be devoted to the theme “Ecologies of Childhood.” This is the first time the IRSCL Congress will be held in the United States. The interdisciplinary 2023 IRSCL Congress is co-organized by Sara Pankenier Weld of the University of California\, Santa Barbara and Dafna Zur of Stanford University. For more details\, see the conference website: https://irscl2023.org. \nSponsored by the Interdisciplinary Humanities Center\, Carsey-Wolf Center\, Department of Germanic and Slavic Studies\, Comparative Literature Program\, Graduate Center for Literary Research (GCLR) at UC Santa Barbara and the Center for East Asian Studies at Stanford University \nImage Credit: Logo by Maya Gonzalez\, 2021
URL:https://ihc.ucsb.edu/event/conference-ecologies-of-childhood/
LOCATION:University of California\, Santa Barbara\, Santa Barbara\, CA\, 93106
CATEGORIES:All Events,IHC Research Support,Other Events
ATTACH;FMTTYPE=image/jpeg:https://ihc.ucsb.edu/wp-content/uploads/2022/02/Ecologies-of-Childhood_Event.jpg
ORGANIZER;CN="Sara Pankenier Weld":MAILTO:saraweld@ucsb.edu
END:VEVENT
END:VCALENDAR