BEGIN:VCALENDAR
VERSION:2.0
PRODID:-//Interdisciplinary Humanities Center UCSB - ECPv6.15.1.1//NONSGML v1.0//EN
CALSCALE:GREGORIAN
METHOD:PUBLISH
X-WR-CALNAME:Interdisciplinary Humanities Center UCSB
X-ORIGINAL-URL:https://ihc.ucsb.edu
X-WR-CALDESC:Events for Interdisciplinary Humanities Center UCSB
REFRESH-INTERVAL;VALUE=DURATION:PT1H
X-Robots-Tag:noindex
X-PUBLISHED-TTL:PT1H
BEGIN:VTIMEZONE
TZID:America/Los_Angeles
BEGIN:DAYLIGHT
TZOFFSETFROM:-0800
TZOFFSETTO:-0700
TZNAME:PDT
DTSTART:20190310T100000
END:DAYLIGHT
BEGIN:STANDARD
TZOFFSETFROM:-0700
TZOFFSETTO:-0800
TZNAME:PST
DTSTART:20191103T090000
END:STANDARD
END:VTIMEZONE
BEGIN:VEVENT
DTSTART;TZID=America/Los_Angeles:20190405T200000
DTEND;TZID=America/Los_Angeles:20190405T220000
DTSTAMP:20260424T000942
CREATED:20190328T225706Z
LAST-MODIFIED:20190328T225706Z
UID:10000407-1554494400-1554501600@ihc.ucsb.edu
SUMMARY:IV Live Presents Improvability: The Welcome Back Show
DESCRIPTION:Improvability: The Welcome Back Show \nFriday\, April 5th at 8:00 PM\nEmbarcadero Hall\, Isla Vista\nOnly 3 bucks! Come early to get a seat! \nSponsored by IV Live\, Isla Vista Arts\, UCSB\, and Associated Students
URL:https://ihc.ucsb.edu/event/iv-live-presents-improvability-the-welcome-back-show/
LOCATION:Embarcadero Hall\, 935 Embarcadero del Norte\, Isla Vista\, CA\, 93117\, United States
CATEGORIES:All Events,IV Live / Improvability
ATTACH;FMTTYPE=image/jpeg:https://ihc.ucsb.edu/wp-content/uploads/2017/10/IVARTS-events-ihc-ucsb.jpg
ORGANIZER;CN="Isla Vista Arts":MAILTO:akjensen@ihc.ucsb.edu@ihc.ucsb.edu
GEO:34.412111;-119.855811
X-APPLE-STRUCTURED-LOCATION;VALUE=URI;X-ADDRESS=Embarcadero Hall 935 Embarcadero del Norte Isla Vista CA 93117 United States;X-APPLE-RADIUS=500;X-TITLE=935 Embarcadero del Norte:geo:-119.855811,34.412111
END:VEVENT
BEGIN:VEVENT
DTSTART;TZID=America/Los_Angeles:20190412T200000
DTEND;TZID=America/Los_Angeles:20190412T220000
DTSTAMP:20260424T000942
CREATED:20190328T225901Z
LAST-MODIFIED:20190328T225901Z
UID:10000408-1555099200-1555106400@ihc.ucsb.edu
SUMMARY:IV Live Presents Improvability
DESCRIPTION:Improvability \nFriday\, April 12th at 8:00 PM\nEmbarcadero Hall\, Isla Vista\nOnly 3 bucks! Come early to get a seat! \nSponsored by IV Live\, Isla Vista Arts\, UCSB\, and Associated Students
URL:https://ihc.ucsb.edu/event/iv-live-presents-improvability-11/
LOCATION:Embarcadero Hall\, 935 Embarcadero del Norte\, Isla Vista\, CA\, 93117\, United States
CATEGORIES:All Events,IV Live / Improvability
ATTACH;FMTTYPE=image/jpeg:https://ihc.ucsb.edu/wp-content/uploads/2017/10/IVARTS-events-ihc-ucsb.jpg
ORGANIZER;CN="Isla Vista Arts":MAILTO:akjensen@ihc.ucsb.edu@ihc.ucsb.edu
GEO:34.412111;-119.855811
X-APPLE-STRUCTURED-LOCATION;VALUE=URI;X-ADDRESS=Embarcadero Hall 935 Embarcadero del Norte Isla Vista CA 93117 United States;X-APPLE-RADIUS=500;X-TITLE=935 Embarcadero del Norte:geo:-119.855811,34.412111
END:VEVENT
BEGIN:VEVENT
DTSTART;TZID=America/Los_Angeles:20190419T200000
DTEND;TZID=America/Los_Angeles:20190419T220000
DTSTAMP:20260424T000942
CREATED:20190328T230314Z
LAST-MODIFIED:20190418T214941Z
UID:10000188-1555704000-1555711200@ihc.ucsb.edu
SUMMARY:IV Live Presents Improvability: The Random Show
DESCRIPTION:Improvability: The Random Show \nFriday\, April 19th at 8:00 PM\nEmbarcadero Hall\, Isla Vista\nOnly 3 bucks! Come early to get a seat! \nSponsored by IV Live\, Isla Vista Arts\, UCSB\, and Associated Students
URL:https://ihc.ucsb.edu/event/iv-live-presents-improvability-the-musical-show-2/
LOCATION:Embarcadero Hall\, 935 Embarcadero del Norte\, Isla Vista\, CA\, 93117\, United States
CATEGORIES:All Events,IV Live / Improvability
ATTACH;FMTTYPE=image/jpeg:https://ihc.ucsb.edu/wp-content/uploads/2017/10/IVARTS-events-ihc-ucsb.jpg
ORGANIZER;CN="Isla Vista Arts":MAILTO:akjensen@ihc.ucsb.edu@ihc.ucsb.edu
GEO:34.412111;-119.855811
X-APPLE-STRUCTURED-LOCATION;VALUE=URI;X-ADDRESS=Embarcadero Hall 935 Embarcadero del Norte Isla Vista CA 93117 United States;X-APPLE-RADIUS=500;X-TITLE=935 Embarcadero del Norte:geo:-119.855811,34.412111
END:VEVENT
BEGIN:VEVENT
DTSTART;TZID=America/Los_Angeles:20190426T200000
DTEND;TZID=America/Los_Angeles:20190426T220000
DTSTAMP:20260424T000942
CREATED:20190328T230145Z
LAST-MODIFIED:20190418T215019Z
UID:10000186-1556308800-1556316000@ihc.ucsb.edu
SUMMARY:IV Live Presents Improvability: The Musical Show
DESCRIPTION:Improvability: The Musical Show \nFriday\, April 26th at 8:00 PM\nEmbarcadero Hall\, Isla Vista\nOnly 3 bucks! Come early to get a seat! \nSponsored by IV Live\, Isla Vista Arts\, UCSB\, and Associated Students
URL:https://ihc.ucsb.edu/event/iv-live-presents-improvability-the-random-show/
LOCATION:Embarcadero Hall\, 935 Embarcadero del Norte\, Isla Vista\, CA\, 93117\, United States
CATEGORIES:All Events,IV Live / Improvability
ATTACH;FMTTYPE=image/jpeg:https://ihc.ucsb.edu/wp-content/uploads/2017/10/IVARTS-events-ihc-ucsb.jpg
ORGANIZER;CN="Isla Vista Arts":MAILTO:akjensen@ihc.ucsb.edu@ihc.ucsb.edu
GEO:34.412111;-119.855811
X-APPLE-STRUCTURED-LOCATION;VALUE=URI;X-ADDRESS=Embarcadero Hall 935 Embarcadero del Norte Isla Vista CA 93117 United States;X-APPLE-RADIUS=500;X-TITLE=935 Embarcadero del Norte:geo:-119.855811,34.412111
END:VEVENT
END:VCALENDAR