BEGIN:VCALENDAR
VERSION:2.0
PRODID:-//Interdisciplinary Humanities Center UCSB - ECPv6.15.1.1//NONSGML v1.0//EN
CALSCALE:GREGORIAN
METHOD:PUBLISH
X-WR-CALNAME:Interdisciplinary Humanities Center UCSB
X-ORIGINAL-URL:https://ihc.ucsb.edu
X-WR-CALDESC:Events for Interdisciplinary Humanities Center UCSB
REFRESH-INTERVAL;VALUE=DURATION:PT1H
X-Robots-Tag:noindex
X-PUBLISHED-TTL:PT1H
BEGIN:VTIMEZONE
TZID:America/Los_Angeles
BEGIN:DAYLIGHT
TZOFFSETFROM:-0800
TZOFFSETTO:-0700
TZNAME:PDT
DTSTART:20190310T100000
END:DAYLIGHT
BEGIN:STANDARD
TZOFFSETFROM:-0700
TZOFFSETTO:-0800
TZNAME:PST
DTSTART:20191103T090000
END:STANDARD
END:VTIMEZONE
BEGIN:VEVENT
DTSTART;TZID=America/Los_Angeles:20190111T200000
DTEND;TZID=America/Los_Angeles:20190111T220000
DTSTAMP:20260424T170448
CREATED:20181217T224813Z
LAST-MODIFIED:20181217T224813Z
UID:10000317-1547236800-1547244000@ihc.ucsb.edu
SUMMARY:IV Live Presents Improvability: New Year's Show
DESCRIPTION:Improvability: New Year’s Show \nFriday\, January 11th at 8:00 PM\nEmbarcadero Hall\, Isla Vista\nOnly 3 bucks! Come early to get a seat! \nSponsored by IV Live\, Isla Vista Arts\, UCSB\, and Associated Students
URL:https://ihc.ucsb.edu/event/iv-live-presents-improvability-new-years-show/
LOCATION:Embarcadero Hall\, 935 Embarcadero del Norte\, Isla Vista\, CA\, 93117\, United States
CATEGORIES:All Events,IV Live / Improvability
ATTACH;FMTTYPE=image/jpeg:https://ihc.ucsb.edu/wp-content/uploads/2017/10/IVARTS-events-ihc-ucsb.jpg
ORGANIZER;CN="Isla Vista Arts":MAILTO:akjensen@ihc.ucsb.edu@ihc.ucsb.edu
GEO:34.412111;-119.855811
X-APPLE-STRUCTURED-LOCATION;VALUE=URI;X-ADDRESS=Embarcadero Hall 935 Embarcadero del Norte Isla Vista CA 93117 United States;X-APPLE-RADIUS=500;X-TITLE=935 Embarcadero del Norte:geo:-119.855811,34.412111
END:VEVENT
BEGIN:VEVENT
DTSTART;TZID=America/Los_Angeles:20190118T200000
DTEND;TZID=America/Los_Angeles:20190118T220000
DTSTAMP:20260424T170448
CREATED:20181217T224947Z
LAST-MODIFIED:20181217T225139Z
UID:10000318-1547841600-1547848800@ihc.ucsb.edu
SUMMARY:IV Live Presents Improvability
DESCRIPTION:Improvability \nFriday\, January 18th at 8:00 PM\nEmbarcadero Hall\, Isla Vista\nOnly 3 bucks! Come early to get a seat! \nSponsored by IV Live\, Isla Vista Arts\, UCSB\, and Associated Students
URL:https://ihc.ucsb.edu/event/iv-live-presents-improvability-6/
LOCATION:Embarcadero Hall\, 935 Embarcadero del Norte\, Isla Vista\, CA\, 93117\, United States
CATEGORIES:All Events,IV Live / Improvability
ATTACH;FMTTYPE=image/jpeg:https://ihc.ucsb.edu/wp-content/uploads/2017/10/IVARTS-events-ihc-ucsb.jpg
ORGANIZER;CN="Isla Vista Arts":MAILTO:akjensen@ihc.ucsb.edu@ihc.ucsb.edu
GEO:34.412111;-119.855811
X-APPLE-STRUCTURED-LOCATION;VALUE=URI;X-ADDRESS=Embarcadero Hall 935 Embarcadero del Norte Isla Vista CA 93117 United States;X-APPLE-RADIUS=500;X-TITLE=935 Embarcadero del Norte:geo:-119.855811,34.412111
END:VEVENT
BEGIN:VEVENT
DTSTART;TZID=America/Los_Angeles:20190125T200000
DTEND;TZID=America/Los_Angeles:20190125T220000
DTSTAMP:20260424T170448
CREATED:20181217T225119Z
LAST-MODIFIED:20181217T225131Z
UID:10000320-1548446400-1548453600@ihc.ucsb.edu
SUMMARY:IV Live Presents Improvability
DESCRIPTION:Improvability \nFriday\, January 25th at 8:00 PM\nEmbarcadero Hall\, Isla Vista\nOnly 3 bucks! Come early to get a seat! \nSponsored by IV Live\, Isla Vista Arts\, UCSB\, and Associated Students
URL:https://ihc.ucsb.edu/event/iv-live-presents-improvability-7/
LOCATION:Embarcadero Hall\, 935 Embarcadero del Norte\, Isla Vista\, CA\, 93117\, United States
CATEGORIES:All Events,IV Live / Improvability
ATTACH;FMTTYPE=image/jpeg:https://ihc.ucsb.edu/wp-content/uploads/2017/10/IVARTS-events-ihc-ucsb.jpg
ORGANIZER;CN="Isla Vista Arts":MAILTO:akjensen@ihc.ucsb.edu@ihc.ucsb.edu
GEO:34.412111;-119.855811
X-APPLE-STRUCTURED-LOCATION;VALUE=URI;X-ADDRESS=Embarcadero Hall 935 Embarcadero del Norte Isla Vista CA 93117 United States;X-APPLE-RADIUS=500;X-TITLE=935 Embarcadero del Norte:geo:-119.855811,34.412111
END:VEVENT
END:VCALENDAR