BEGIN:VCALENDAR
VERSION:2.0
PRODID:-//Interdisciplinary Humanities Center UCSB - ECPv6.15.1.1//NONSGML v1.0//EN
CALSCALE:GREGORIAN
METHOD:PUBLISH
X-WR-CALNAME:Interdisciplinary Humanities Center UCSB
X-ORIGINAL-URL:https://ihc.ucsb.edu
X-WR-CALDESC:Events for Interdisciplinary Humanities Center UCSB
REFRESH-INTERVAL;VALUE=DURATION:PT1H
X-Robots-Tag:noindex
X-PUBLISHED-TTL:PT1H
BEGIN:VTIMEZONE
TZID:America/Los_Angeles
BEGIN:DAYLIGHT
TZOFFSETFROM:-0800
TZOFFSETTO:-0700
TZNAME:PDT
DTSTART:20250309T100000
END:DAYLIGHT
BEGIN:STANDARD
TZOFFSETFROM:-0700
TZOFFSETTO:-0800
TZNAME:PST
DTSTART:20251102T090000
END:STANDARD
END:VTIMEZONE
BEGIN:VEVENT
DTSTART;TZID=America/Los_Angeles:20250512T110000
DTEND;TZID=America/Los_Angeles:20250512T123000
DTSTAMP:20260420T175632
CREATED:20250506T235213Z
LAST-MODIFIED:20250507T172816Z
UID:10000772-1747047600-1747053000@ihc.ucsb.edu
SUMMARY:Talk: The Vietnam War and Its Legacy After 50 Years
DESCRIPTION:April/May 2025 marks the 50th anniversary of the fall of Saigon. Pulitzer Prize-winning historian Fredrik Logevall discusses the Vietnam War—one of the major conflicts of the 20th century—and reflects on its legacy. \nFredrik Logevall is the Laurence D. Belfer Professor of History and International Affairs at Harvard University. He is the author or editor of eleven books\, including recently JFK: Coming of Age in the American Century\, 1917-1956 (Random House\, 2020)\, which won the Elizabeth Longford Prize and was a New York Times Notable Book of the Year. His book Embers of War: The Fall of an Empire and the Making of America’s Vietnam (Random House\, 2012) won the Pulitzer Prize for History\, the Parkman Prize\, the Arthur Ross Book Award\, and the American Library in Paris Book Award. \nCosponsored by the Center for Cold War Studies and International History and UCSB’s Department of History
URL:https://ihc.ucsb.edu/event/talk-the-vietnam-war-and-its-legacy-after-50-years/
LOCATION:McCune Conference Room\, 6020 HSSB\, Santa Barbara\, CA\, 93106\, United States
CATEGORIES:All Events,IHC Sub-Units
ATTACH;FMTTYPE=image/jpeg:https://ihc.ucsb.edu/wp-content/uploads/2025/05/Vietnam_Logevall_Event.jpg
ORGANIZER;CN="The Center for Cold War Studies and International History":MAILTO:syaqub@history.ucsb.edu
END:VEVENT
BEGIN:VEVENT
DTSTART;TZID=America/Los_Angeles:20250515T130000
DTEND;TZID=America/Los_Angeles:20250515T150000
DTSTAMP:20260420T175632
CREATED:20250418T194502Z
LAST-MODIFIED:20250513T173809Z
UID:10000764-1747314000-1747321200@ihc.ucsb.edu
SUMMARY:GCLR Seminar: Urban Experiential Learning: Concepts and Pedagogical Methods
DESCRIPTION:This seminar will focus on the concepts\, pedagogical designs\, and possible experiential outcomes for urban studies courses. We will draw on a summer course titled “Interdisciplinary Introduction to African Urban Studies\,” which Prof. Quayson has taught in Accra for Stanford students for the past three years. The central principle underpinning the course is the ways in which any given city might be used to generate a toolkit of concepts and methods for understanding other cities\, with Accra providing the experiential laboratory in this case. Cities to be referred to will include New York\, London\, San Francisco\, Singapore\, Hong Kong\, and Johannesburg\, among various others. We will also explore various literary and film texts that allow us to ground spatial principles. \nRegister to attend here \nSponsored by the Graduate Center for Literary Research
URL:https://ihc.ucsb.edu/event/gclr-seminar-urban-experiential-learning-concepts-and-pedagogical-methods/
LOCATION:6206C Phelps\, Phelps Hall\, UC Santa Barbara\, Santa Barbara\, CA\, 93106\, United States
CATEGORIES:All Events,IHC Sub-Units
ATTACH;FMTTYPE=image/jpeg:https://ihc.ucsb.edu/wp-content/uploads/2025/04/Ato_Quayson_Event.jpg
ORGANIZER;CN="Graduate Center for Literary Research":MAILTO:complit-glcr@ucsb.edu
GEO:34.4161308;-119.8446426
X-APPLE-STRUCTURED-LOCATION;VALUE=URI;X-ADDRESS=6206C Phelps Phelps Hall UC Santa Barbara Santa Barbara CA 93106 United States;X-APPLE-RADIUS=500;X-TITLE=Phelps Hall\, UC Santa Barbara:geo:-119.8446426,34.4161308
END:VEVENT
BEGIN:VEVENT
DTSTART;TZID=America/Los_Angeles:20250516T120000
DTEND;TZID=America/Los_Angeles:20250516T140000
DTSTAMP:20260420T175632
CREATED:20250418T205019Z
LAST-MODIFIED:20250423T192939Z
UID:10000765-1747396800-1747404000@ihc.ucsb.edu
SUMMARY:GCLR Discussion: Ilya Kliger in Conversation with Sven Spieker
DESCRIPTION:Join us for a conversation between professors Ilya Kliger (NYU) and Sven Spieker (UCSB) on Kliger’s new book\, “Sovereign Fictions: Poetics and Politics in the Age of Russian Realism” \nThe nineteenth-century novel is generally assumed to owe its basic social imaginaries to the ideologies\, institutions\, and practices of modern civil society. In Sovereign Fictions\, Ilya Kliger asks what happens to the novel when its fundamental sociohistorical orientation is\, as in the case of Russian realism\, toward the state. Kliger explores Russian realism’s distinctive construals of sociality through a broad range of texts from the 1830s to the 1870s\, including major works by Tolstoy\, Dostoevsky\, Gogol\, Pushkin\, Lermontov\, Goncharov\, and Turgenev\, and several lesser-known but influential books of the period\, including Alexander Druzhinin’s Polinka Saks (1847)\, Aleksei Pisemsky’s One Thousand Souls (1858)\, and Vasily Sleptsov’s Hard Times (1865). Challenging much current scholarly consensus about the social dynamics of nineteenth-century realist fiction\, Sovereign Fictions offers an important intervention in socially inflected theories of the novel and in current thinking on representations of power and historical poetics. \nZoom attendance link here \nSponsored by the Graduate Center for Literary Research
URL:https://ihc.ucsb.edu/event/gclr-discussion-ilya-kliger-in-conversation-with-sven-spieker/
LOCATION:Zoom
CATEGORIES:All Events,IHC Sub-Units
ATTACH;FMTTYPE=image/jpeg:https://ihc.ucsb.edu/wp-content/uploads/2025/04/Ilya_Kliger_Event.jpg
ORGANIZER;CN="Graduate Center for Literary Research":MAILTO:complit-glcr@ucsb.edu
END:VEVENT
BEGIN:VEVENT
DTSTART;TZID=America/Los_Angeles:20250516T160000
DTEND;TZID=America/Los_Angeles:20250516T180000
DTSTAMP:20260420T175632
CREATED:20250418T210728Z
LAST-MODIFIED:20250423T193027Z
UID:10000766-1747411200-1747418400@ihc.ucsb.edu
SUMMARY:GCLR Talk: Interdisciplinarity and Interpretation: A Comparative Method
DESCRIPTION:Different institutional arrangements have historically been devised to house and support what is described as interdisciplinary work\, including in the form of entire universities\, specific schools and departments\, standalone institutes and centers\, and survey courses firmly lodged within disciplinary curricula\, to name just a few. At the core of the efforts at interdisciplinarity are two central principles: first\, that of integrative epistemologies that might be applicable to all fields of learning\, including the sciences\, the social sciences\, the humanities\, and the arts. The second principle is that of unified or collaborative modes of knowledge that might be deployed for addressing real-world problems\, such as environmental degradation\, increasingly complex cities\, water shortage and its management\, public health crises\, migration and refugees\, international security\, and the vagaries of globalization\, to name just a few that have captured headlines since the Covid pandemic. While discussing these first ideas of interdisciplinarity\, Prof. Quayson will be introducing a third aspect\, namely\, the protocols of proposition making that emerge from different disciplines and ground them as disciplines as such. Understanding the different protocols of proposition making that apply in different disciplines is fundamental to what we understand as comparative studies of different kinds\, ranging from the literary\, to the social\, to the urban\, etc. He will then spend some time elaborating a supple comparative method from this understanding. \nSponsored by the Graduate Center for Literary Research
URL:https://ihc.ucsb.edu/event/gclr-talk-interdisciplinarity-and-interpretation-a-comparative-method/
LOCATION:Wallis Annenberg Conference Room\, 4315 SSMS\, Santa Barbara\, CA\, 93106\, United States
CATEGORIES:All Events,IHC Sub-Units
ATTACH;FMTTYPE=image/jpeg:https://ihc.ucsb.edu/wp-content/uploads/2025/04/Ato_Quayson_Event.jpg
ORGANIZER;CN="Graduate Center for Literary Research":MAILTO:complit-glcr@ucsb.edu
END:VEVENT
BEGIN:VEVENT
DTSTART;TZID=America/Los_Angeles:20250523T120000
DTEND;TZID=America/Los_Angeles:20250523T140000
DTSTAMP:20260420T175632
CREATED:20250418T212838Z
LAST-MODIFIED:20250423T193128Z
UID:10000767-1748001600-1748008800@ihc.ucsb.edu
SUMMARY:GCLR Book Presentation: The Late Marx’s Revolutionary Roads: Colonialism\, Gender\, and Indigenous Communism with Kevin B. Anderson
DESCRIPTION:The author of the acclaimed Marx at the Margins analyses the late Marx on Indigenous communism\, gender\, and anti-colonialism. \nIn his late writings\, Marx went beyond the boundaries of capital and class in the Western European and North American contexts. Kevin Anderson carries out a systematic analysis of Marx’s Ethnological Notebooks and related texts on Russia\, India\, Ireland\, Algeria\, Latin America\, and ancient Rome. These texts\, some of them only now being published\, provide evidence for a change of perspective\, away from Eurocentric worldviews or unilinear theories of development. As Anderson shows\, the late Marx elaborated a truly global\, multilinear theory of modern society and its revolutionary possibilities. \nZoom attendance link here \nSponsored by the Graduate Center for Literary Research
URL:https://ihc.ucsb.edu/event/gclr-book-presentation-the-late-marxs-revolutionary-roads-colonialism-gender-and-indigenous-communism-with-kevin-b-anderson/
LOCATION:Zoom
CATEGORIES:All Events,IHC Sub-Units
ATTACH;FMTTYPE=image/jpeg:https://ihc.ucsb.edu/wp-content/uploads/2025/04/Kevin_B_Anderson_Event.jpg
ORGANIZER;CN="Graduate Center for Literary Research":MAILTO:complit-glcr@ucsb.edu
END:VEVENT
BEGIN:VEVENT
DTSTART;TZID=America/Los_Angeles:20250531T090000
DTEND;TZID=America/Los_Angeles:20250531T150000
DTSTAMP:20260420T175632
CREATED:20250418T213422Z
LAST-MODIFIED:20250423T193243Z
UID:10000768-1748682000-1748703600@ihc.ucsb.edu
SUMMARY:GCLR Conference: Blue Humanities and Liquid Media: A Watery View of the World
DESCRIPTION:The GCLR is very proud to announce the upcoming arrival of our annual graduate student conference! This year’s title\, “Blue Humanities and Liquid Media: A Watery View of the World” reflects our collective desire to interrogate the depths of our current historical conjuncture— marked by the pressing global socioecological crisis— and to find ways to flow between borders\, disciplinary and otherwise. Our keynote speaker for the event will be the esteemed Prof. Elizabeth DeLoughrey (UCLA). Please see our website for more information and the call for papers! \nSponsored by the Graduate Center for Literary Research
URL:https://ihc.ucsb.edu/event/gclr-conference-blue-humanities-and-liquid-media-a-watery-view-of-the-world/
LOCATION:Wallis Annenberg Conference Room\, 4315 SSMS\, Santa Barbara\, CA\, 93106\, United States
CATEGORIES:All Events,IHC Sub-Units
ATTACH;FMTTYPE=image/jpeg:https://ihc.ucsb.edu/wp-content/uploads/2025/04/Blue_Humanities_Event.jpg
ORGANIZER;CN="Graduate Center for Literary Research":MAILTO:complit-glcr@ucsb.edu
END:VEVENT
END:VCALENDAR