BEGIN:VCALENDAR
VERSION:2.0
PRODID:-//Interdisciplinary Humanities Center UCSB - ECPv6.15.1.1//NONSGML v1.0//EN
CALSCALE:GREGORIAN
METHOD:PUBLISH
X-WR-CALNAME:Interdisciplinary Humanities Center UCSB
X-ORIGINAL-URL:https://ihc.ucsb.edu
X-WR-CALDESC:Events for Interdisciplinary Humanities Center UCSB
REFRESH-INTERVAL;VALUE=DURATION:PT1H
X-Robots-Tag:noindex
X-PUBLISHED-TTL:PT1H
BEGIN:VTIMEZONE
TZID:America/Los_Angeles
BEGIN:DAYLIGHT
TZOFFSETFROM:-0800
TZOFFSETTO:-0700
TZNAME:PDT
DTSTART:20250309T100000
END:DAYLIGHT
BEGIN:STANDARD
TZOFFSETFROM:-0700
TZOFFSETTO:-0800
TZNAME:PST
DTSTART:20251102T090000
END:STANDARD
END:VTIMEZONE
BEGIN:VEVENT
DTSTART;TZID=America/Los_Angeles:20250205T160000
DTEND;TZID=America/Los_Angeles:20250205T173000
DTSTAMP:20260423T111357
CREATED:20250106T223647Z
LAST-MODIFIED:20250109T180025Z
UID:10000749-1738771200-1738776600@ihc.ucsb.edu
SUMMARY:Award: Luis Leal Award for Distinction in Chicano/Latino Literature
DESCRIPTION:The Luis Leal Award for Distinction in Chicano/Latino Literature\, now in its twentieth year\, honors a writer of Chicano/Latino background who has attained national and international distinction. The recipient of the 2025 Leal Award is Manuel Muñoz. A MacArthur Fellow and a Professor of English at the University of Arizona\, Muñoz is the author of three books of short stories and one novel\, all of which have been highly acclaimed and received awards. Mr. Muñoz will engage in a conversation with Prof. Mario T. Garcia of the Department of Chicano Studies and the founder and director of the Leal Award. There will be an opportunity for audience discussion with Mr. Muñoz. \nCosponsored by the Chicano/Latino Research Group\, Interdisciplinary Humanities Center\, Office of the Chancellor\, Office of the Executive Vice Chancellor\, Chicano Studies Institute\, Department of Chicana and Chicano Studies\, Luis Leal Endowed Chair\, Educational Opportunity Program\, La Maestra Center\, Department of Spanish and Portuguese\, and the Department of English
URL:https://ihc.ucsb.edu/event/award-luis-leal-award-for-distinction-in-chicano-latino-literature-2025/
LOCATION:McCune Conference Room\, 6020 HSSB\, Santa Barbara\, CA\, 93106\, United States
CATEGORIES:All Events,IHC Sub-Units
ATTACH;FMTTYPE=image/jpeg:https://ihc.ucsb.edu/wp-content/uploads/2025/01/Munoz_Leal_Award_Event_Image.jpg
ORGANIZER;CN="Chicano/Latino Research Group":MAILTO:garcia@history.ucsb.edu
END:VEVENT
BEGIN:VEVENT
DTSTART;TZID=America/Los_Angeles:20250226T160000
DTEND;TZID=America/Los_Angeles:20250226T173000
DTSTAMP:20260423T111357
CREATED:20250115T234632Z
LAST-MODIFIED:20250122T185853Z
UID:10000751-1740585600-1740591000@ihc.ucsb.edu
SUMMARY:Sal Castro Memorial Lecture 2025
DESCRIPTION:The Sal Castro Memorial Lecture aims to present recent books published in Chicano/Latino history. Named after Chicano Movement icon Sal Castro\, who struggled for educational justice for Chicans\, this will be the inaugural lecture. Our first speaker is Prof. Oliver Rosales\, who will discuss his recent book\, Civil Rights in Bakersfield: Segregation and Multiracial Activism in the Central Valley (University of Texas Press: 2024). Prof. Rosales received his Ph.D. in History from UCSB. \nCosponsored by the Chicano/Latino Research Group\, Interdisciplinary Humanities Center\, Office of the Chancellor\, Office of the Executive Vice Chancellor\, Department of History\, Chicano Studies Institute\, and Department of Chicana and Chicano Studies
URL:https://ihc.ucsb.edu/event/sal-castro-memorial-lecture-2025/
LOCATION:McCune Conference Room\, 6020 HSSB\, Santa Barbara\, CA\, 93106\, United States
CATEGORIES:All Events,IHC Sub-Units
ORGANIZER;CN="Chicano/Latino Research Group":MAILTO:garcia@history.ucsb.edu
END:VEVENT
END:VCALENDAR