BEGIN:VCALENDAR
VERSION:2.0
PRODID:-//Interdisciplinary Humanities Center UCSB - ECPv6.15.1.1//NONSGML v1.0//EN
CALSCALE:GREGORIAN
METHOD:PUBLISH
X-WR-CALNAME:Interdisciplinary Humanities Center UCSB
X-ORIGINAL-URL:https://ihc.ucsb.edu
X-WR-CALDESC:Events for Interdisciplinary Humanities Center UCSB
REFRESH-INTERVAL;VALUE=DURATION:PT1H
X-Robots-Tag:noindex
X-PUBLISHED-TTL:PT1H
BEGIN:VTIMEZONE
TZID:America/Los_Angeles
BEGIN:DAYLIGHT
TZOFFSETFROM:-0800
TZOFFSETTO:-0700
TZNAME:PDT
DTSTART:20230312T100000
END:DAYLIGHT
BEGIN:STANDARD
TZOFFSETFROM:-0700
TZOFFSETTO:-0800
TZNAME:PST
DTSTART:20231105T090000
END:STANDARD
END:VTIMEZONE
BEGIN:VEVENT
DTSTART;TZID=America/Los_Angeles:20230609T190000
DTEND;TZID=America/Los_Angeles:20230610T210000
DTSTAMP:20260422T193621
CREATED:20230525T164531Z
LAST-MODIFIED:20230525T182319Z
UID:10000657-1686337200-1686430800@ihc.ucsb.edu
SUMMARY:Love and Information
DESCRIPTION:Isla Vista Arts and Not Necessarily Shakespeare in the Park present “Love and Information\,” a play by Caryl Churchill and directed by Jake Marshall\, Nicole Hearfield\, Logan Null\, Tori Kostic\, Maylin De Leon\, and Benjamin Atticus Scapellati\, in which over a hundred characters try to understand meaning and human connection in a world with too much information. \nShowtimes are on June 9 at 7 PM and June 10 at 2 PM and 7 PM; admission is free.
URL:https://ihc.ucsb.edu/event/love-and-information/
LOCATION:Isla Vista Community Center\, 976 Embarcadero del Mar\, Isla Vista\, CA\, 93117
CATEGORIES:All Events,IHC Sub-Units
ATTACH;FMTTYPE=image/jpeg:https://ihc.ucsb.edu/wp-content/uploads/2023/05/LoveAndInformation_Event.jpg
ORGANIZER;CN="Isla Vista Arts":MAILTO:akjensen@ihc.ucsb.edu@ihc.ucsb.edu
END:VEVENT
END:VCALENDAR