BEGIN:VCALENDAR
VERSION:2.0
PRODID:-//Interdisciplinary Humanities Center UCSB - ECPv6.15.1.1//NONSGML v1.0//EN
CALSCALE:GREGORIAN
METHOD:PUBLISH
X-WR-CALNAME:Interdisciplinary Humanities Center UCSB
X-ORIGINAL-URL:https://ihc.ucsb.edu
X-WR-CALDESC:Events for Interdisciplinary Humanities Center UCSB
REFRESH-INTERVAL;VALUE=DURATION:PT1H
X-Robots-Tag:noindex
X-PUBLISHED-TTL:PT1H
BEGIN:VTIMEZONE
TZID:America/Los_Angeles
BEGIN:DAYLIGHT
TZOFFSETFROM:-0800
TZOFFSETTO:-0700
TZNAME:PDT
DTSTART:20250309T100000
END:DAYLIGHT
BEGIN:STANDARD
TZOFFSETFROM:-0700
TZOFFSETTO:-0800
TZNAME:PST
DTSTART:20251102T090000
END:STANDARD
END:VTIMEZONE
BEGIN:VEVENT
DTSTART;TZID=America/Los_Angeles:20250515T160000
DTEND;TZID=America/Los_Angeles:20250515T180000
DTSTAMP:20260424T153441
CREATED:20250210T230407Z
LAST-MODIFIED:20250401T190212Z
UID:10000756-1747324800-1747332000@ihc.ucsb.edu
SUMMARY:Key Passages Talk: No Occupation: Derrida on Palestine
DESCRIPTION:Taking its point of departure from a thread of references to Palestine in Derrida’s writings\, from Glas to his last texts\, this lecture seeks to demonstrate that these key passages can be a resource for us as we navigate our way through the ongoing Israeli-Palestinian conflict. It traces Derrida’s complicated relation to his own Jewishness and argues that it is this complexity that enables him to guide us through the thicket of the recent war in Gaza and its ongoing consequences. Audience Q&A and a reception will follow. \nEduardo Cadava is Philip Mayhew Professor of English at Princeton University. He is the author of Words of Light: Theses on the Photography of History\, Emerson and the Climates of History\, Paper Graveyards\, and\, with Sara Nadal-Melsió\, Politically Red. He has co-edited Who Comes After the Subject?\, Cities Without Citizens\, and The Itinerant Languages of Photography. He has also translated with Liana Theodoratou Nadar’s memoirs\, Quand j’étais photographe\, which appeared under the title When I Was a Photographer. \nCosponsored by the IHC’s Key Passages series \nImage: Fazal Sheikh\, Remains of the demolished home of ʽAwad Abu Ḥbak\, in the vicinity of the village of Bīr Haddāj\, 31°1′11″N / 34°43′50″E\, 2011 (detail)\, from Desert Bloom (2015). Courtesy of the artist.
URL:https://ihc.ucsb.edu/event/no-occupation-derrida-on-palestine/
LOCATION:McCune Conference Room\, 6020 HSSB\, Santa Barbara\, CA\, 93106\, United States
CATEGORIES:Key Passages,All Events,IHC Series
ATTACH;FMTTYPE=image/jpeg:https://ihc.ucsb.edu/wp-content/uploads/2025/02/Cadava_Event-1.jpg
ORGANIZER;CN="Interdisciplinary Humanities Center":MAILTO:events@ihc.ucsb.edu
END:VEVENT
END:VCALENDAR