BEGIN:VCALENDAR
VERSION:2.0
PRODID:-//Interdisciplinary Humanities Center UCSB - ECPv6.15.1.1//NONSGML v1.0//EN
CALSCALE:GREGORIAN
METHOD:PUBLISH
X-WR-CALNAME:Interdisciplinary Humanities Center UCSB
X-ORIGINAL-URL:https://ihc.ucsb.edu
X-WR-CALDESC:Events for Interdisciplinary Humanities Center UCSB
REFRESH-INTERVAL;VALUE=DURATION:PT1H
X-Robots-Tag:noindex
X-PUBLISHED-TTL:PT1H
BEGIN:VTIMEZONE
TZID:America/Los_Angeles
BEGIN:DAYLIGHT
TZOFFSETFROM:-0800
TZOFFSETTO:-0700
TZNAME:PDT
DTSTART:20240310T100000
END:DAYLIGHT
BEGIN:STANDARD
TZOFFSETFROM:-0700
TZOFFSETTO:-0800
TZNAME:PST
DTSTART:20241103T090000
END:STANDARD
END:VTIMEZONE
BEGIN:VEVENT
DTSTART;TZID=America/Los_Angeles:20241107T160000
DTEND;TZID=America/Los_Angeles:20241107T180000
DTSTAMP:20260425T152947
CREATED:20240819T214448Z
LAST-MODIFIED:20250909T165543Z
UID:10000714-1730995200-1731002400@ihc.ucsb.edu
SUMMARY:Key Passages Talk: When Life Is a Shipwreck: Key Passages in Shakespeare’s Twelfth Night
DESCRIPTION:Shakespeare’s Twelfth Night begins with a shipwreck\, a violent birth onto unknown shores that separates orphaned twins on a journey to nowhere. The turbulent sea visualizes an environment of passages–into adulthood\, towards sexual identity\, and in search of new attachments and communities of belonging. Twelfth Night is a play about transitions and transitioning\, about passages and passing. What skills\, virtues\, and capacities do the twins need to find their way along the shoreline of life\, and back to each other? In this lecture\, scholar and dramaturg Julia Reinhard Lupton examines key passages in Twelfth Night that illuminate the navigation of life changes and social bodies at the heart of Shakespeare’s most beautiful and sonorous romantic comedy.  Audience Q&A and a reception will follow. \nJulia Reinhard Lupton is Distinguished Professor of English at the University of California\, Irvine and Interim Director of the UC Humanities Research Institute. She also co-directs the New Swan Shakespeare Center and serves as Dramaturg for the New Swan Shakespeare Festival. She is the author or co-author of five books on Shakespeare\, including Shakespeare Dwelling and Thinking with Shakespeare. Her edited collections address topics such as Shakespeare and virtue\, Shakespeare and hospitality\, and Shakespeare and wisdom literature. A former Guggenheim fellow\, she is a frequent teacher in the community. She is currently writing a book on Shakespeare and virtue. \nCosponsored by the IHC’s Key Passages series and the Hester and Cedric Crowell Endowment     \nImage: Twelfth Night\, New Swan Shakespeare Festival\, University of California\, Irvine\, 2024
URL:https://ihc.ucsb.edu/event/when-life-is-a-shipwreck/
LOCATION:McCune Conference Room\, 6020 HSSB\, Santa Barbara\, CA\, 93106\, United States
CATEGORIES:Key Passages,All Events,IHC Series
ATTACH;FMTTYPE=image/jpeg:https://ihc.ucsb.edu/wp-content/uploads/2024/08/Lupton_Event.jpg
ORGANIZER;CN="Interdisciplinary Humanities Center":MAILTO:events@ihc.ucsb.edu
END:VEVENT
BEGIN:VEVENT
DTSTART;TZID=America/Los_Angeles:20241119T160000
DTEND;TZID=America/Los_Angeles:20241119T180000
DTSTAMP:20260425T152947
CREATED:20240927T210530Z
LAST-MODIFIED:20250108T222733Z
UID:10000721-1732032000-1732039200@ihc.ucsb.edu
SUMMARY:Key Passages Talk: When the Uyghur Language Confronts Atrocity
DESCRIPTION:Over the last decade\, the persecution of Uyghurs in China has attracted global attention. When Uyghur was officially banned from education by the Chinese government in September 2016\, Uyghur editors were arrested and heavily sentenced\, and books were collected and burned. Private bookstores were shut down and Uyghur publishers and bookstore owners were sentenced. Today\, Uyghur linguists\, writers\, and journalists remain persecuted. In January 2017\, Uyghurs started to organize mother language schools\, publish textbooks\, and write story books for kids. There are now four Uyghur publishing houses\, two bookstores\, three online libraries among the Uyghur diaspora\, and more than 70 Uyghur mother language classes\, both online and in-person\, teaching Uyghur around the world.  \nIn this talk\, Abduweli Ayup will discuss his 2013 arrest for teaching the Uyghur language to kindergarteners\, his activism\, and his advocacy for Uyghur language education in China and the diaspora. Audience Q&A and a reception will follow. \nAbduweli Ayup is a writer\, activist\, and linguist\, specializing in Uyghur-language education. He has lived in Bergen\, Norway since 2019 as a writer-in-residence through the International Cities of Refuge Network (ICORN) program. Abduweli founded Uyghur Hjelp in 2016\, which investigates and documents the Uyghur plight\, publishes books\, and supports Uyghur bookstores\, kindergartens and schools\, and engages in advocacy. He has published six books in Uyghur\, his essays and jail memoirs in Turkish\, and his first English-language book will be published in September 2025 by Silkie Publishing House.  \nCosponsored by the IHC’s Key Passages series and the Sara Miller McCune and George D. McCune Endowment
URL:https://ihc.ucsb.edu/event/when-the-uyghur-language-confronts-atrocity/
LOCATION:McCune Conference Room\, 6020 HSSB\, Santa Barbara\, CA\, 93106\, United States
CATEGORIES:Key Passages,Sara Miller McCune and George D. McCune Endowment,All Events,IHC Series
ATTACH;FMTTYPE=image/png:https://ihc.ucsb.edu/wp-content/uploads/2024/09/Ayup_Event_Image.png
ORGANIZER;CN="Interdisciplinary Humanities Center":MAILTO:events@ihc.ucsb.edu
END:VEVENT
END:VCALENDAR