BEGIN:VCALENDAR
VERSION:2.0
PRODID:-//Interdisciplinary Humanities Center UCSB - ECPv6.15.1.1//NONSGML v1.0//EN
CALSCALE:GREGORIAN
METHOD:PUBLISH
X-WR-CALNAME:Interdisciplinary Humanities Center UCSB
X-ORIGINAL-URL:https://ihc.ucsb.edu
X-WR-CALDESC:Events for Interdisciplinary Humanities Center UCSB
REFRESH-INTERVAL;VALUE=DURATION:PT1H
X-Robots-Tag:noindex
X-PUBLISHED-TTL:PT1H
BEGIN:VTIMEZONE
TZID:America/Los_Angeles
BEGIN:DAYLIGHT
TZOFFSETFROM:-0800
TZOFFSETTO:-0700
TZNAME:PDT
DTSTART:20210314T100000
END:DAYLIGHT
BEGIN:STANDARD
TZOFFSETFROM:-0700
TZOFFSETTO:-0800
TZNAME:PST
DTSTART:20211107T090000
END:STANDARD
END:VTIMEZONE
BEGIN:VEVENT
DTSTART;TZID=America/Los_Angeles:20210506T160000
DTEND;TZID=America/Los_Angeles:20210506T170000
DTSTAMP:20260419T233852
CREATED:20201218T215645Z
LAST-MODIFIED:20210524T173654Z
UID:10000519-1620316800-1620320400@ihc.ucsb.edu
SUMMARY:Living Democracy Talk: What We Can Do For Each Other
DESCRIPTION:One of the greatest threats against democracy and justice is indolence–defined as a form of militant indifference based on the lack of empathy for the suffering of others. Cristina Rivera Garza will explore how taking part in and contributing to transnational emotional communities in Mexico and the U.S.\, many based on shared experiences of social suffering and the grieving that comes with it\, may help us leap out of ourselves and into the heart of the bond we share with human and non-human beings alike. Audience Q&A will follow. \nCristina Rivera Garza is Distinguished Professor of Hispanic Studies and Creative Writing and Director of the PhD in Creative Writing in Spanish Program at the University of Houston. She is an award-winning author\, translator\, and critic. Her recent publications include The Taiga Syndrome\, translated by Suzanne Jill Levine and Aviva Kana (Dorothy Project\, 2018); The Iliac Crest\, translated by Sarah Booker (The Feminist Press\, 2017); Autobiografía del algodón (Random House\, 2020); Grieving: Dispatches from a Wounded Country\, translated by Sarah Booker (The Feminist Press\, 2020); The Restless Dead: Necrowriting and Disappropriation\, translated by Robin Myers (Vanderbilt University Press\, 2020); and La Castañeda Insane Asylum: Narratives of Pain from Modern Mexico\, translated by Laura Kanost (Ohio University Press\, 2020). She is also a 2020 MacArthur Foundation Genius Grant recipient. \nSponsored by the IHC’s Living Democracy series and the Hester and Cedric Crowell Endowment \nASL and Spanish interpretation will be provided. To view ASL interpretation\, please attend the webinar on a desktop computer. \n  \nLO QUE PODEMOS HACER EL UNO POR EL OTRO \nUna de las mayores amenazas contra la democracia y la justicia es la indolencia\, definida como una forma de indiferencia militante basada en la falta de empatía por el sufrimiento de los demás. Cristina Rivera Garza explorará cómo participar y contribuir a las comunidades emocionales transnacionales en México y en los Estados Unidos\, muchas de ellas basadas en experiencias compartidas de sufrimiento social y el duelo que lo acompaña\, puede ayudarnos a salir de nosotros mismos y al corazón del vínculo que compartimos. con seres humanos y no humanos por igual. Seguirán las preguntas y respuestas de la audiencia. \nCristina Rivera Garza es Profesora Distinguida de Estudios Hispanos y Escritura Creativa y Directora del Programa de Doctorado en Escritura Creativa en Español de la Universidad de Houston. Es una autora\, traductora y crítica premiada. Sus publicaciones recientes incluyen El mal de la taiga (2012); La cresta de Ilión (2002); Autobiografía del algodón (2020); Dolerse: textos desde un país herido (2011); Los muertos indóciles: Necroescrituras y desapropiación (2013); y La Castañeda: narrativas dolientes desde el Manicomio General\, México\, 1910-1930 (2010). Además\, recibió la Beca Genius de la Fundación MacArthur 2020. \nPatrocinado por la serie Living Democracy de IHC y Hester and Cedric Crowell Endowment  \nHabrá interpretación en ASL y español. Para acceder a interpretación de señas favor de utilizar una computadora de escritorio. \nEvento gratuito; Favor de registrarse de antemano para recibir el enlace a la conferencia de Zoom
URL:https://ihc.ucsb.edu/event/living-democracy-talk-cristina-rivera-garza/
LOCATION:Zoom
CATEGORIES:Living Democracy,Hester and Cedric Crowell Endowment,All Events,IHC Series
ATTACH;FMTTYPE=image/jpeg:https://ihc.ucsb.edu/wp-content/uploads/2020/12/Rivera-Garza-Event_01.jpg
ORGANIZER;CN="Interdisciplinary Humanities Center":MAILTO:events@ihc.ucsb.edu
END:VEVENT
BEGIN:VEVENT
DTSTART;TZID=America/Los_Angeles:20210518T160000
DTEND;TZID=America/Los_Angeles:20210518T173000
DTSTAMP:20260419T233852
CREATED:20210401T224430Z
LAST-MODIFIED:20210602T185640Z
UID:10000319-1621353600-1621359000@ihc.ucsb.edu
SUMMARY:2021 Arthur N. Rupe Great Debate: Taming Titans: How Should We Regulate Big Tech?
DESCRIPTION:Free to attend; registration required to receive Zoom webinar attendance link \nParticipants:\nSonia Katyal\, The University of California\, Berkeley\, School of Law\nKate Klonick\, St. John’s University\, School of Law\nRandal C. Picker\, The University of Chicago\, The Law School\nModerator: Michael J. Burstein\, Yeshiva University\, Benjamin N. Cardozo School of Law \n\nExperts on law and technology will debate how Amazon\, Apple\, Facebook\, Google\, and Microsoft should be regulated. Are they 21st-century trusts? Guardians of free speech? Threats to our privacy? Do they impede or fuel innovation? Join us for a lively discussion of the role big tech companies play in our lives and the role they should play in the coming decade. \nSonia Katyal\, Distinguished Haas Chair at UC Berkeley School of Law and Co-Director of the Berkeley Center for Law & Technology\, has published widely on the intersection of technology\, intellectual property\, and civil rights (including antidiscrimination\, privacy\, and freedom of speech) as well as on law\, gender\, and sexuality. \n\nKate Klonick\, Assistant Professor of Law at St. John’s University School of Law and Affiliate Fellow at the Information Society Project at Yale Law School\, has published on Facebook’s new Oversight Board\, the Internet’s effect on freedom of expression and private platform governance\, and issues related to online shaming\, artificial intelligence\, content moderation\, algorithms\, privacy\, and intellectual property.  \nRandal C. Picker\, James Parker Hall Distinguished Service Professor of Law at the University of Chicago Law School\, is co-author of Game Theory and the Law and Security Interests in Personal Property: Cases\, Problems and Materials. \nThe debate will be moderated by Michael J. Burstein\, Vice Dean and Professor of Law at Cardozo School of Law. \nCo-presented with the UCSB College of Letters and Science and made possible by an endowment from the Arthur N. Rupe Foundation \nLive closed-captioning and Spanish interpretation will be provided. \n  \nEL GRAN DEBATE ARTHUR N. RUPE DEL 2021: “DOMAR A LOS TITANES: ¿CÓMO DEBERÍAMOS REGULAR LAS GRANDES COMPAÑÍAS TECNOLÓGICAS?” \nAsista gratuitamente; se requiere su matriculación para recibir el enlace de Zoom que le permite asistir al webinar \nPonentes:\nSonia Katyal\, Facultad de Derecho de la Universidad de California en Berkeley\nKate Klonick\, Facultad de Derecho de la St. John’s University (New York)\nRandal C. Picker\, Facultad de Derecho de la Universidad de Chicago\nModerador: Michael J. Burstein\, Facultad de Derecho “Benjamin N. Cardozo” (Yeshiva University\, New York) \nLos participantes\, expertos en derecho y tecnología\, discutirán y debatirán sobre cómo deberían regularse empresas como Amazon\, Apple\, Facebook\, Google y Microsoft. ¿Son éstas los monopolios del siglo XXI? ¿Los guardianes de la libertad de expresión? ¿O bien tan sólo amenazas a la privacidad? ¿Son estos gigantes fuentes o impedimentos para la innovación? Únase a nosotros para una animada discusión sobre el papel que juegan estas empresas en nuestras vidas y el papel que deberían desempeñar en la próxima década. \nSonia Katyal es la titular de la Cátedra Haas en la Facultad de Derecho de UC Berkeley y codirectora del Berkeley Center for Law & Technology. Es la distinguida autora de numerosas publicaciones sobre la intersección entre tecnología\, propiedad intelectual y derechos civiles (entre ellos la privacidad\, la libertad de expresión y la lucha contra la discriminación)\, así como entre derecho\, género y sexualidad. \nKate Klonick es profesora adjunta de derecho en la Facultad de Derecho de la St. John’s University en Nueva York y miembro afiliado del Information Society Project (Proyecto sobre la Sociedad de la Información) en la Facultad de Derecho de Yale. Es autora de varias publicaciones sobre la nueva Junta de Supervisión en Facebook\, el efecto del Internet sobre la libertad de expresión y la gestión privada de plataformas digitales\, y cuestiones relacionadas con el fenómeno del shaming (humillación en línea)\, la inteligencia artificial\, la moderación de contenido\, los algoritmos\, la privacidad y la propiedad intelectual. \nRandal C. Picker\, es el titular de la Cátedra James Parker Hall en la Facultad de Derecho de la Universidad de Chicago. Es el author distinguido de various libros\, cuales: Game Theory and the Law (‘La teoría de juegos en el derecho’) y Security Interests in Personal Property: Cases\, Problems and Materials (‘Los bienes muebles como garantía: casos\, problemas y materiales’). \nMichael J. Burstein\, catedrático de derecho y vicedecano de la Facultad de Derecho “Benjamin N. Cardozo” de Yeshiva University en Nueva York moderará el debate. \nOrganizado conjuntamente con las Facultades de Letras y Ciencias de UCSB y patrocinado por un legado de la Fundación Arthur N. Rupe \nSe proveerá el subtitulado para personas sordas en tiempo real e interpretación al español.
URL:https://ihc.ucsb.edu/event/2021-the-arthur-n-rupe-great-debate-taming-titans-how-should-we-regulate-big-tech/
LOCATION:Zoom
CATEGORIES:All Events,IHC Series
ATTACH;FMTTYPE=image/jpeg:https://ihc.ucsb.edu/wp-content/uploads/2021/04/Rupe_2_Event.jpg
ORGANIZER;CN="Interdisciplinary Humanities Center":MAILTO:events@ihc.ucsb.edu
END:VEVENT
BEGIN:VEVENT
DTSTART;TZID=America/Los_Angeles:20210527T120000
DTEND;TZID=America/Los_Angeles:20210527T124500
DTSTAMP:20260419T233852
CREATED:20210401T204239Z
LAST-MODIFIED:20210602T194054Z
UID:10000543-1622116800-1622119500@ihc.ucsb.edu
SUMMARY:Reading: UC Santa Barbara Student Veteran Writers
DESCRIPTION:Read the student veterans’ stories in The Santa Barbara Independent. \nUC Santa Barbara student veterans will read stories about their military experiences\, followed by audience Q&A. \nPresenters: David Guerrero\, Robert Hickman\, Michael Ramirez\, and Nick Tash \nDavid Guerrero served in the United States Marine Corps as an Infantry rifleman from 2003 to 2007. He earned his AS in Criminology and Liberal Arts from Santa Barbara City College. David transferred to UCSB in the Fall of 2020 and is currently studying sociology and minoring in applied psychology and education studies. David plans to become a Licensed Clinical Social Worker (LCSW) and help veterans improve and maintain their mental wellness. \nRobert Hickman served as an Infantryman in the U.S. Army for three years. He earned his AA in biology at Reedley College and is currently studying biology at UC Santa Barbara\, where he will be graduating in Spring 2021. He plans to become a physician. \nMichael Ramirez is an Air Force veteran who served from 2008 to 2014. After his initial military enlistment\, Michael became a private military contractor for a foreign country. After working overseas\, Michael decided to quit and return back to the U.S to finish his degree. Currently\, Michael is finishing his degree in Statistics and Data Science at UC Santa Barbara. \nNick Tash served in the Marines from 2010–14. He graduated from UCSB in June 2020 with a BA in philosophy\, and he is now a paralegal in the Army Reserve. He is planning to attend the University of Nevada\, Las Vegas Boyd School of Law and become an attorney in the U.S. Judge Advocate General’s (JAG) Corps. \nSponsored by the IHC’s Living Democracy series\, the IHC’s Harry Girvetz Memorial Endowment\, and the UC Santa Barbara Veterans Writing Workshop
URL:https://ihc.ucsb.edu/event/2021-reading-uc-santa-barbara-student-veteran-writers/
LOCATION:Zoom
CATEGORIES:Living Democracy,Harry Girvetz Memorial Endowment,All Events,IHC Series
ATTACH;FMTTYPE=image/jpeg:https://ihc.ucsb.edu/wp-content/uploads/2021/04/VWW_reading_Event.jpg
ORGANIZER;CN="Interdisciplinary Humanities Center":MAILTO:events@ihc.ucsb.edu
END:VEVENT
END:VCALENDAR