BEGIN:VCALENDAR
VERSION:2.0
PRODID:-//Interdisciplinary Humanities Center UCSB - ECPv6.15.1.1//NONSGML v1.0//EN
CALSCALE:GREGORIAN
METHOD:PUBLISH
X-WR-CALNAME:Interdisciplinary Humanities Center UCSB
X-ORIGINAL-URL:https://ihc.ucsb.edu
X-WR-CALDESC:Events for Interdisciplinary Humanities Center UCSB
REFRESH-INTERVAL;VALUE=DURATION:PT1H
X-Robots-Tag:noindex
X-PUBLISHED-TTL:PT1H
BEGIN:VTIMEZONE
TZID:America/Los_Angeles
BEGIN:DAYLIGHT
TZOFFSETFROM:-0800
TZOFFSETTO:-0700
TZNAME:PDT
DTSTART:20210314T100000
END:DAYLIGHT
BEGIN:STANDARD
TZOFFSETFROM:-0700
TZOFFSETTO:-0800
TZNAME:PST
DTSTART:20211107T090000
END:STANDARD
END:VTIMEZONE
BEGIN:VEVENT
DTSTART;TZID=America/Los_Angeles:20210211T160000
DTEND;TZID=America/Los_Angeles:20210211T170000
DTSTAMP:20260419T193217
CREATED:20201211T165843Z
LAST-MODIFIED:20210223T204815Z
UID:10000305-1613059200-1613062800@ihc.ucsb.edu
SUMMARY:Living Democracy Talk: Strongmen: From Mussolini to Trump
DESCRIPTION:Free to attend; registration required to receive Zoom webinar attendance link \n\nWhat do strongman leaders across a century have in common? Why do people continue to follow them\, despite the destruction they cause? Drawing on her new book\, Strongmen: Mussolini to the Present\, Ruth Ben-Ghiat discusses the playbook of corruption\, virility\, propaganda\, and violence they utilize\, how people have resisted authoritarians over a century\, and what we can do to strengthen democracy in America and around the world. Audience Q&A will follow. \n\n\nRuth Ben-Ghiat is Professor of History and Italian Studies at New York University. She writes frequently for CNN and other news and analysis sites on fascism\, authoritarian leaders\, propaganda\, and threats to democracy around the world and how to counter them. \nSponsored by the IHC’s Living Democracy series\, the IHC’s Harry Girvetz Memorial Endowment\, and the UCSB Italian Studies Program \nASL and Spanish interpretation will be provided. To view ASL interpretation\, please attend the webinar on a desktop computer. \n\n\n  \n\nHOMBRES FUERTES: DE MUSSOLINI A TRUMP \n¿Qué tienen en común los líderes denominados como hombres fuertes a lo largo del siglo pasado? ¿Por qué la gente continúa siguiéndolos\, a pesar de la destrucción que causan? Basándose en su nuevo libro\, Strongmen: Mussolini to the Present\, Ruth Ben-Ghiat analiza el manual de la corrupción\, la virilidad\, la propaganda\, la violencia que utilizan\, cómo la gente ha resistido a los autoritarios durante un siglo y qué podemos hacer para fortalecer la democracia en Estados Unidos y en todo el mundo. \n\nRuth Ben-Ghiat es profesora de Historia y Estudios Italianos en la Universidad de Nueva York. Escribe con frecuencia para CNN y otros sitios de noticias y análisis sobre fascismo\, líderes autoritarios\, propaganda y amenazas a la democracia en todo el mundo y cómo contrarrestarlas. \nPatrocinado por la serie Living Democracy de IHC y la Dotación Conmemorativa Harry Girvetz de IHC y Programa de Estudios Italianos de UCSB \nHabrá interpretación en ASL y español. Para acceder a interpretación de señas favor de utilizar una computadora de escritorio. \nEvento gratuito; Favor de registrarse de antemano para recibir el enlace a la conferencia de Zoom
URL:https://ihc.ucsb.edu/event/living-democracy-talk-strongmen-from-mussolini-to-trump/
LOCATION:Zoom
CATEGORIES:Living Democracy,Harry Girvetz Memorial Endowment,All Events,IHC Series
ATTACH;FMTTYPE=image/jpeg:https://ihc.ucsb.edu/wp-content/uploads/2020/12/Ben-Ghiat_new_Event.jpg
ORGANIZER;CN="Interdisciplinary Humanities Center":MAILTO:events@ihc.ucsb.edu
END:VEVENT
BEGIN:VEVENT
DTSTART;TZID=America/Los_Angeles:20210225T160000
DTEND;TZID=America/Los_Angeles:20210225T170000
DTSTAMP:20260419T193217
CREATED:20200623T182907Z
LAST-MODIFIED:20210308T185015Z
UID:10000502-1614268800-1614272400@ihc.ucsb.edu
SUMMARY:Living Democracy Talk: Halfway Home: Race\, Punishment\, and the Afterlife of Mass Incarceration
DESCRIPTION:Free to attend; registration required to receive Zoom webinar attendance link \n\nWhile more people are incarcerated in the United States than in any other nation in the history of the western world\, the prison is but one (comparatively) small part of a vast carceral landscape. The 600\,000 people released each year join nearly 5 million people already on probation or parole\, 12 million who are processed through a county jail\, 19 million U.S. adults estimated to have a felony conviction\, and the staggering 79 million Americans with a criminal record. But the size of the U.S. carceral state is second in consequence to its reach. Incarcerated people are greeted by more than 48\,000 laws\, policies and administrative sanctions upon release that limit their participation in the labor and housing markets\, in the culture and civic life of the city\, and even within their families. They are subject to rules other people are not subject to\, and shoulder responsibilities other people are not expected to shoulder. They live in a “supervised society\,” a hidden social world we’ve produced through our laws\, policies and everyday practices\, and in fact\, occupy an alternate form of political membership—what Professor Reuben Jonathan Miller calls “carceral citizenship.” \nJoin Professor Miller as he examines the afterlife of mass incarceration\, attending to how U.S. criminal justice policy has changed the social life of the city and altered the contours of American Democracy one (most often poor black American) family at a time. Drawing on ethnographic data collected across three iconic American cities—Chicago\, Detroit\, and New York—we will explore what it means to live in a supervised society and how we might find our way out. Audience Q&A will follow. \nReuben Jonathan Miller is an Assistant Professor in the University of Chicago School of Social Service Administration (SSA). His research examines life at the intersections of race\, poverty\, crime control\, and social welfare policy. He is the author of Halfway Home: Race\, Punishment and the Afterlife of Mass Incarceration (February 2021)\, based on 15 years of research and practice with currently and formerly incarcerated men\, women\, their families\, partners\, and friends. \nSponsored by the IHC’s Living Democracy series \nASL and Spanish interpretation will be provided. To view ASL interpretation\, please attend the webinar on a desktop computer. \n  \nA MEDIO CAMINO: RAZA\, CASTIGO Y LA VIDA POSTERIOR AL ENCARCELAMIENTO MASIVO \nSi bien hay más personas encarceladas en los Estados Unidos que en cualquier otra nación en la historia del mundo occidental\, la prisión es solo una (comparativamente) pequeña parte de un vasto paisaje carcelario. Las 600\,000 personas liberadas cada año se unen a casi 5 millones de personas que ya están en libertad condicional\, 12 millones que son procesados ​​a través de una cárcel del condado\, 19 millones de adultos estadounidenses que se estima tienen una condena por delito grave\, y los 79 millones de estadounidenses con antecedentes penales. Sin embargo\, el tamaño del estado carcelario de EE. UU. es solo el segundo problema. El primero es: las personas encarceladas son recibidas por más de 48.000 leyes\, políticas y sanciones administrativas tras su liberación que limitan su participación en los mercados laborales y de vivienda\, en la cultura y la vida cívica de la ciudad e incluso dentro de sus familias. Estos individuos están sujetos a reglas a las que otras personas no lo están\, y no se espera que asuman responsabilidades como el resto de la población. Viven en una “sociedad supervisada”\, un mundo social oculto que hemos producido a través de nuestras leyes\, políticas y prácticas cotidianas y\, de hecho\, ocupan una forma alternativa de membresía política\, lo que el profesor Reuben Jonathan Miller llama “ciudadanía carcelaria”. \nÚnase al profesor Miller mientras examina el más allá del encarcelamiento masivo\, atendiendo a cómo la política de justicia penal de EE. UU. ha cambiado la vida social de la ciudad y ha alterado los contornos de la democracia estadounidense\, una familia (la mayoría de las veces afroamericana pobre) a la vez. Basándonos en datos etnográficos recopilados en tres ciudades estadounidenses emblemáticas\, Chicago\, Detroit y Nueva York\, exploraremos lo que significa vivir en una sociedad supervisada y cómo encontrar la salida. Seguirán las preguntas y respuestas de la audiencia. \nReuben Jonathan Miller es profesor asistente en la Escuela de Administración de Servicios Sociales (SSA) de la Universidad de Chicago. Su investigación examina la vida en las intersecciones de raza\, pobreza\, control del crimen y políticas de bienestar social. Es el autor de Halfway Home: Race\, Punishment and the Afterlife of Mass Incarceration (febrero de 2021)\, basado en 15 años de investigación y práctica con hombres\, mujeres\, sus familias\, parejas y amigos que se encuentran actual y anteriormente en la cárcel. \nPatrocinado por la serie Living Democracy de IHC  \nHabrá interpretación en ASL y español. Para acceder a interpretación de señas favor de utilizar una computadora de escritorio. \nEvento gratuito; Favor de registrarse de antemano para recibir el enlace a la conferencia de Zoom
URL:https://ihc.ucsb.edu/event/living-democracy-talk-halfway-home-race-punishment-and-the-afterlife-of-mass-incarceration/
LOCATION:Zoom
CATEGORIES:Living Democracy,All Events,IHC Series
ATTACH;FMTTYPE=image/jpeg:https://ihc.ucsb.edu/wp-content/uploads/2020/01/Miller_Event.jpg
ORGANIZER;CN="Interdisciplinary Humanities Center":MAILTO:events@ihc.ucsb.edu
END:VEVENT
END:VCALENDAR