BEGIN:VCALENDAR
VERSION:2.0
PRODID:-//Interdisciplinary Humanities Center UCSB - ECPv6.15.1.1//NONSGML v1.0//EN
CALSCALE:GREGORIAN
METHOD:PUBLISH
X-WR-CALNAME:Interdisciplinary Humanities Center UCSB
X-ORIGINAL-URL:https://ihc.ucsb.edu
X-WR-CALDESC:Events for Interdisciplinary Humanities Center UCSB
REFRESH-INTERVAL;VALUE=DURATION:PT1H
X-Robots-Tag:noindex
X-PUBLISHED-TTL:PT1H
BEGIN:VTIMEZONE
TZID:America/Los_Angeles
BEGIN:DAYLIGHT
TZOFFSETFROM:-0800
TZOFFSETTO:-0700
TZNAME:PDT
DTSTART:20220313T100000
END:DAYLIGHT
BEGIN:STANDARD
TZOFFSETFROM:-0700
TZOFFSETTO:-0800
TZNAME:PST
DTSTART:20221106T090000
END:STANDARD
END:VTIMEZONE
BEGIN:VEVENT
DTSTART;TZID=America/Los_Angeles:20220404T190000
DTEND;TZID=America/Los_Angeles:20220404T210000
DTSTAMP:20260422T125015
CREATED:20210928T205024Z
LAST-MODIFIED:20220314T201527Z
UID:10000556-1649098800-1649106000@ihc.ucsb.edu
SUMMARY:Regeneration Talk: Elizabeth Kolbert
DESCRIPTION:It is said that we live in a new geological epoch characterized by climate change and other disastrous human impacts on the planet. In her new book\, Under a White Sky: The Nature of the Future\, Pulitzer Prize-winning author Elizabeth Kolbert takes a hard look at the new world we are creating. Should we be seeking technological solutions to the damage humans have caused to the environment\, or will such “solutions” only make the problems worse? \nElizabeth Kolbert is a staff writer for The New Yorker. Her book The Sixth Extinction: An Unnatural History\, an examination of mass extinctions that weaves intellectual and natural history with reporting in the field\, was a New York Times 2014 Top Ten Best Book of the Year and is number one on the Guardian‘s list of the 100 Best Nonfiction Books of all time. The Sixth Extinction also won the 2015 Pulitzer Prize in the General Nonfiction category and was a finalist for the National Book Critics Circle awards for the best books of 2014. Growing out of a groundbreaking three-part series in The New Yorker\, her first book\, Field Notes from a Catastrophe: Man\, Nature\, and Climate Change\, was chosen as one of the 100 Notable Books of the Year (2006) by The New York Times Book Review. \nKolbert has been a staff writer for The New Yorker since 1999. Her journalism has garnered numerous awards\, including the American Association for the Advancement of Science’s magazine award\, the National Academy of Sciences Communication Award in the newspaper/magazine category\, and a National Magazine Award in the Reviews and Criticism category. Kolbert has also been awarded a Lannan Writing Fellowship\, the prestigious Heinz Award\, the Sierra Club’s David R. Brower Award\, the Walter Sullivan Award for Excellence in Science Journalism from the American Geophysical Union\, and the Blake-Dodd Prize from the American Academy of Arts and Letters. In March 2021 she was voted into the American Academy of Arts and Letters. \nCopies of Kolbert’s books will be available for purchase and signing\, courtesy of Chaucer’s Books. This will event will be held in person; there will not be live or recorded online viewing options. \nSponsored by the IHC’s Regeneration series and the IHC Idee Levitan Endowment \n\nPer University guidelines\, masks are recommended for vaccinated persons and required for unvaccinated persons during all indoor events except when actively eating or drinking. Before coming to campus\, UCSB affiliates should complete the Student Health COVID-19 Screening Survey\, and non-affiliates should complete the On-Demand Daily COVID-19 Screening Survey. Any individual who has symptoms suggestive of COVID-19 should avoid campus altogether. (See the university’s interim visitors protocol for additional information.)
URL:https://ihc.ucsb.edu/event/regeneration-talk-elizabeth-kolbert/
LOCATION:Corwin Pavilion\, 494 UCEN Rd\, Isla Vista\, CA\, 93117\, United States
CATEGORIES:Regeneration,Idee Levitan Endowment,All Events,IHC Series
ATTACH;FMTTYPE=image/jpeg:https://ihc.ucsb.edu/wp-content/uploads/2021/09/Kolbert-portrait-Event.jpg
ORGANIZER;CN="Interdisciplinary Humanities Center":MAILTO:events@ihc.ucsb.edu
GEO:34.4112239;-119.8458061
X-APPLE-STRUCTURED-LOCATION;VALUE=URI;X-ADDRESS=Corwin Pavilion 494 UCEN Rd Isla Vista CA 93117 United States;X-APPLE-RADIUS=500;X-TITLE=494 UCEN Rd:geo:-119.8458061,34.4112239
END:VEVENT
END:VCALENDAR