BEGIN:VCALENDAR
VERSION:2.0
PRODID:-//Interdisciplinary Humanities Center UCSB - ECPv6.15.1.1//NONSGML v1.0//EN
CALSCALE:GREGORIAN
METHOD:PUBLISH
X-WR-CALNAME:Interdisciplinary Humanities Center UCSB
X-ORIGINAL-URL:https://ihc.ucsb.edu
X-WR-CALDESC:Events for Interdisciplinary Humanities Center UCSB
REFRESH-INTERVAL;VALUE=DURATION:PT1H
X-Robots-Tag:noindex
X-PUBLISHED-TTL:PT1H
BEGIN:VTIMEZONE
TZID:America/Los_Angeles
BEGIN:DAYLIGHT
TZOFFSETFROM:-0800
TZOFFSETTO:-0700
TZNAME:PDT
DTSTART:20220313T100000
END:DAYLIGHT
BEGIN:STANDARD
TZOFFSETFROM:-0700
TZOFFSETTO:-0800
TZNAME:PST
DTSTART:20221106T090000
END:STANDARD
END:VTIMEZONE
BEGIN:VEVENT
DTSTART;TZID=America/Los_Angeles:20220127T160000
DTEND;TZID=America/Los_Angeles:20220127T170000
DTSTAMP:20260419T202025
CREATED:20210920T205807Z
LAST-MODIFIED:20220207T174530Z
UID:10000550-1643299200-1643302800@ihc.ucsb.edu
SUMMARY:Regeneration Artist Talk: Harmonia Rosales
DESCRIPTION:Afro-Cuban American artist Harmonia Rosales will discuss her new and dynamic body of work presented in the exhibition\, Entwined. Rosales’ interweaving of representations from ancient Greek and Yoruba mythologies invites viewers to challenge their ideas about identity and empowerment. Women and people of color\, the protagonists of her canvases\, assume roles of power and beauty in exquisite imaginings of ancient myths and Renaissance paintings. \nTo learn more about the exhibition Entwined\, which is on display at UCSB’s Art\, Design & Architecture Museum from January 19 to May 1\, 2022\, visit museum.ucsb.edu. \nHarmonia Rosales is a Los Angeles-based artist whose work challenges ideological hegemony in contemporary society. Learn more about the artist and her work at harmoniarosales.com. \nImage © Harmonia Rosales. Courtesy of Harmonia Rosales \nSponsored by the IHC’s Regeneration series\, the IHC Idee Levitan Endowment\, the Argyropoulos Chair in Hellenic Studies\, the Department of Classics\, and the Art\, Design & Architecture Museum \n 
URL:https://ihc.ucsb.edu/event/regeneration-artist-talk-harmonia-rosales/
LOCATION:Zoom
CATEGORIES:Regeneration,Idee Levitan Endowment,All Events,IHC Series
ATTACH;FMTTYPE=image/jpeg:https://ihc.ucsb.edu/wp-content/uploads/2021/09/Rosales_Event.jpg
ORGANIZER;CN="Interdisciplinary Humanities Center":MAILTO:events@ihc.ucsb.edu
END:VEVENT
END:VCALENDAR