BEGIN:VCALENDAR
VERSION:2.0
PRODID:-//Interdisciplinary Humanities Center UCSB - ECPv6.15.1.1//NONSGML v1.0//EN
CALSCALE:GREGORIAN
METHOD:PUBLISH
X-WR-CALNAME:Interdisciplinary Humanities Center UCSB
X-ORIGINAL-URL:https://ihc.ucsb.edu
X-WR-CALDESC:Events for Interdisciplinary Humanities Center UCSB
REFRESH-INTERVAL;VALUE=DURATION:PT1H
X-Robots-Tag:noindex
X-PUBLISHED-TTL:PT1H
BEGIN:VTIMEZONE
TZID:America/Los_Angeles
BEGIN:DAYLIGHT
TZOFFSETFROM:-0800
TZOFFSETTO:-0700
TZNAME:PDT
DTSTART:20210314T100000
END:DAYLIGHT
BEGIN:STANDARD
TZOFFSETFROM:-0700
TZOFFSETTO:-0800
TZNAME:PST
DTSTART:20211107T090000
END:STANDARD
END:VTIMEZONE
BEGIN:VEVENT
DTSTART;TZID=America/Los_Angeles:20211103T160000
DTEND;TZID=America/Los_Angeles:20211103T170000
DTSTAMP:20260422T052401
CREATED:20210826T175151Z
LAST-MODIFIED:20211228T222320Z
UID:10000548-1635955200-1635958800@ihc.ucsb.edu
SUMMARY:Regeneration Talk: Clint Smith
DESCRIPTION:Join us online for a conversation between Clint Smith and IHC Director Susan Derwin. Audience Q&A will follow. \nClint Smith is a staff writer at The Atlantic. He is the author of How the Word Is Passed: A Reckoning with the History of Slavery Across America\, which was a #1 New York Times Bestseller\, and the poetry collection Counting Descent\, which won the 2017 Literary Award for Best Poetry Book from the Black Caucus of the American Library Association and was a finalist for an NAACP Image Award. \nHe has received fellowships from the Andrew W. Mellon Foundation\, New America\, the Emerson Collective\, the Art For Justice Fund\, Cave Canem\, and the National Science Foundation. His essays\, poems\, and scholarly writing have been published in The New Yorker\, The New York Times Magazine\, The New Republic\, Poetry Magazine\, The Paris Review\, Harvard Educational Review\, and elsewhere. \nClint is a 2014 National Poetry Slam champion and a 2017 recipient of the Jerome J. Shestack Prize from the American Poetry Review. His two TED Talks\, The Danger of Silence and How to Raise a Black Son in America\, collectively have been viewed more than 9 million times. \nPreviously\, Clint taught high school English in Prince George’s County\, Maryland\, where\, in 2013\, he was named the Christine D. Sarbanes Teacher of the Year by the Maryland Humanities Council. He currently teaches writing and literature in the D.C. Central Detention Facility. He is also the host of the YouTube series Crash Course Black American History. \nClint received his B.A. in English from Davidson College and his Ph.D. in Education from Harvard University. Born and raised in New Orleans\, he currently lives in Maryland with his wife and their two children. \nSponsored by the IHC’s Regeneration series and the Idee Levitan Endowment \nLive closed-captioning will be provided.
URL:https://ihc.ucsb.edu/event/clint-smith/
LOCATION:Zoom
CATEGORIES:Regeneration,Idee Levitan Endowment,All Events,IHC Series
ATTACH;FMTTYPE=image/jpeg:https://ihc.ucsb.edu/wp-content/uploads/2021/08/Smith_Event.jpg
ORGANIZER;CN="Interdisciplinary Humanities Center":MAILTO:events@ihc.ucsb.edu
END:VEVENT
END:VCALENDAR